BEGIN:VCALENDAR
VERSION:2.0
PRODID:-//Studierendenschaft der FernUni Hagen - ECPv6.1.3//NONSGML v1.0//EN
CALSCALE:GREGORIAN
METHOD:PUBLISH
X-WR-CALNAME:Studierendenschaft der FernUni Hagen
X-ORIGINAL-URL:https://www.fernstudis.de
X-WR-CALDESC:Veranstaltungen für Studierendenschaft der FernUni Hagen
REFRESH-INTERVAL;VALUE=DURATION:PT1H
X-Robots-Tag:noindex
X-PUBLISHED-TTL:PT1H
BEGIN:VTIMEZONE
TZID:Europe/Berlin
BEGIN:DAYLIGHT
TZOFFSETFROM:+0100
TZOFFSETTO:+0200
TZNAME:CEST
DTSTART:20250330T010000
END:DAYLIGHT
BEGIN:STANDARD
TZOFFSETFROM:+0200
TZOFFSETTO:+0100
TZNAME:CET
DTSTART:20251026T010000
END:STANDARD
BEGIN:DAYLIGHT
TZOFFSETFROM:+0100
TZOFFSETTO:+0200
TZNAME:CEST
DTSTART:20260329T010000
END:DAYLIGHT
BEGIN:STANDARD
TZOFFSETFROM:+0200
TZOFFSETTO:+0100
TZNAME:CET
DTSTART:20261025T010000
END:STANDARD
END:VTIMEZONE
BEGIN:VEVENT
DTSTART;TZID=Europe/Berlin:20260415T170000
DTEND;TZID=Europe/Berlin:20260415T180000
DTSTAMP:20260423T010727
CREATED:20260328T204639Z
LAST-MODIFIED:20260328T204804Z
UID:7323-1776272400-1776276000@www.fernstudis.de
SUMMARY:Informationsvortrag zum Nachteilsausgleich
DESCRIPTION:Anja Friebel und Kristin Wünsche\, Hochschulbeauftragte für Studierende mit Behinderung oder chronischer Erkrankung\, informieren alle interessierten Studierenden am 15. April 2026 um 17:00 Uhr online via Zoom zu Nachteilsausgleichen im Studium.
URL:https://www.fernstudis.de/event/informationsvortrag-zum-nachteilsausgleich/
END:VEVENT
BEGIN:VEVENT
DTSTART;TZID=Europe/Berlin:20260328T130000
DTEND;TZID=Europe/Berlin:20260328T170000
DTSTAMP:20260423T010727
CREATED:20260316T165929Z
LAST-MODIFIED:20260322T085944Z
UID:7298-1774702800-1774717200@www.fernstudis.de
SUMMARY:Sitzung des FSR Psychologie
DESCRIPTION:Sitzung des FSR Psy am Samstag\, den 28.03.2026\, von 13:00-17:00 Uhr auf dem Campus:  \n\n\n\nFernUniversität in HagenUniversitätsstr. 11\, 58097 HagenGebäude 3\, Raum G 002
URL:https://www.fernstudis.de/event/sitzung-des-fsr-psychologie/
END:VEVENT
BEGIN:VEVENT
DTSTART;TZID=Europe/Berlin:20260328T100000
DTEND;TZID=Europe/Berlin:20260328T170000
DTSTAMP:20260423T010727
CREATED:20260319T071218Z
LAST-MODIFIED:20260319T071220Z
UID:7306-1774692000-1774717200@www.fernstudis.de
SUMMARY:Sitzung des FSR WiWi
DESCRIPTION:Sitzung des FSR WiWi am Samstag\, den 28.03.2026\, von 10:00-17:00 Uhr in der Bildungsherberge (Roggenkamp 10\, 58093 Hagen) im Raum 299
URL:https://www.fernstudis.de/event/sitzung-des-fsr-wiwi/
END:VEVENT
BEGIN:VEVENT
DTSTART;TZID=Europe/Berlin:20260322T100000
DTEND;TZID=Europe/Berlin:20260322T160000
DTSTAMP:20260423T010727
CREATED:20260314T181035Z
LAST-MODIFIED:20260314T181036Z
UID:7280-1774173600-1774195200@www.fernstudis.de
SUMMARY:AStA-Sitzung
DESCRIPTION: AStA-Sitzung am Sonntag\, den 22.03.2026\, von 10:00-16:00 Uhr \n\n\n\nFernUniversität in HagenCampus Frankfurt am MainColosseo FrankfurtWalther-von-Cronberg-Platz 165. Obergeschoss60594 Frankfurt am Main
URL:https://www.fernstudis.de/event/asta-sitzung-2/
END:VEVENT
BEGIN:VEVENT
DTSTART;TZID=Europe/Berlin:20260228T170000
DTEND;TZID=Europe/Berlin:20260228T180000
DTSTAMP:20260423T010727
CREATED:20260206T215159Z
LAST-MODIFIED:20260206T215201Z
UID:7221-1772298000-1772301600@www.fernstudis.de
SUMMARY:Konstituierung des neu gewählten FSR Pyscho
DESCRIPTION:weitere Informationen in der verlinkten Einladung
URL:https://www.fernstudis.de/event/konstituierung-des-neu-gewaehlten-fsr-pyscho/
CATEGORIES:Sitzung,wahlen
END:VEVENT
BEGIN:VEVENT
DTSTART;TZID=Europe/Berlin:20260228T160000
DTEND;TZID=Europe/Berlin:20260228T170000
DTSTAMP:20260423T010727
CREATED:20260206T214940Z
LAST-MODIFIED:20260206T215440Z
UID:7219-1772294400-1772298000@www.fernstudis.de
SUMMARY:Konstituierung des neu gewählten FSR REWI
DESCRIPTION:weitere Informationen in der verlinkten Einladung
URL:https://www.fernstudis.de/event/konstituierung-des-fsr-rewi/
CATEGORIES:Sitzung,wahlen
END:VEVENT
BEGIN:VEVENT
DTSTART;TZID=Europe/Berlin:20260228T150000
DTEND;TZID=Europe/Berlin:20260228T160000
DTSTAMP:20260423T010727
CREATED:20260206T214745Z
LAST-MODIFIED:20260206T215317Z
UID:7217-1772290800-1772294400@www.fernstudis.de
SUMMARY:Konstituierung des neu gewählten FSR WIWI
DESCRIPTION:weitere Informationen in der verlinkten Einladung
URL:https://www.fernstudis.de/event/konstituierung-des-fsr-wiwi/
CATEGORIES:Sitzung,wahlen
END:VEVENT
BEGIN:VEVENT
DTSTART;TZID=Europe/Berlin:20260228T140000
DTEND;TZID=Europe/Berlin:20260228T150000
DTSTAMP:20260423T010727
CREATED:20260206T214544Z
LAST-MODIFIED:20260206T215237Z
UID:7215-1772287200-1772290800@www.fernstudis.de
SUMMARY:Konstituierung des neu gewählten FSR METI
DESCRIPTION:weitere Informationen in der verlinkten Einladung
URL:https://www.fernstudis.de/event/konstituierung-des-fsr-meti/
CATEGORIES:Sitzung,wahlen
END:VEVENT
BEGIN:VEVENT
DTSTART;TZID=Europe/Berlin:20260228T130000
DTEND;TZID=Europe/Berlin:20260228T140000
DTSTAMP:20260423T010727
CREATED:20260206T214354Z
LAST-MODIFIED:20260206T214355Z
UID:7213-1772283600-1772287200@www.fernstudis.de
SUMMARY:Konstituierung des neu gewählten FSR KSW
DESCRIPTION:weitere Information in der verlinkten Einladung
URL:https://www.fernstudis.de/event/konstituierung-des-neu-gewaehlten-fsr-ksw/
CATEGORIES:Sitzung,wahlen
END:VEVENT
BEGIN:VEVENT
DTSTART;TZID=Europe/Berlin:20260228T100000
DTEND;TZID=Europe/Berlin:20260228T130000
DTSTAMP:20260423T010727
CREATED:20260206T214011Z
LAST-MODIFIED:20260206T214012Z
UID:7211-1772272800-1772283600@www.fernstudis.de
SUMMARY:Konstituierung des neu gewählten Studierendenparlamentes
DESCRIPTION:weitere Information in der verlinkten Einladung
URL:https://www.fernstudis.de/event/konstituierung-des-neu-gewaehlten-studierendenparlamentes/
CATEGORIES:Sitzung,SP,Studierendenparlament,wahlen
END:VEVENT
BEGIN:VEVENT
DTSTART;TZID=Europe/Berlin:20260118T100000
DTEND;TZID=Europe/Berlin:20260118T170000
DTSTAMP:20260423T010727
CREATED:20260110T211611Z
LAST-MODIFIED:20260110T211612Z
UID:7073-1768730400-1768755600@www.fernstudis.de
SUMMARY:7. Sitzung des Wahlausschusses
DESCRIPTION:weitere Informationen in der verlinkten Einladung
URL:https://www.fernstudis.de/event/7-sitzung-des-wahlausschusses/
CATEGORIES:Sitzung,wahlen
END:VEVENT
BEGIN:VEVENT
DTSTART;TZID=Europe/Berlin:20260117T093000
DTEND;TZID=Europe/Berlin:20260117T170000
DTSTAMP:20260423T010727
CREATED:20260103T103300Z
LAST-MODIFIED:20260103T103301Z
UID:7066-1768642200-1768669200@www.fernstudis.de
SUMMARY:Sitzung des Fachschafsrates METI
DESCRIPTION:weitere Informationen in der verlinkten Einladung.
URL:https://www.fernstudis.de/event/sitzung-des-fachschafsrates-meti/
CATEGORIES:Sitzung
END:VEVENT
BEGIN:VEVENT
DTSTART;TZID=Europe/Berlin:20251213T100000
DTEND;TZID=Europe/Berlin:20251213T190000
DTSTAMP:20260423T010727
CREATED:20251204T124946Z
LAST-MODIFIED:20251209T222342Z
UID:6975-1765620000-1765652400@www.fernstudis.de
SUMMARY:Abgesagt: Sitzung des Fachschaftsrat WiWi
DESCRIPTION:
URL:https://www.fernstudis.de/event/sitzung-des-fachschaftsrat-wiwi/
CATEGORIES:Sitzung
END:VEVENT
BEGIN:VEVENT
DTSTART;TZID=Europe/Berlin:20251123T100000
DTEND;TZID=Europe/Berlin:20251123T180000
DTSTAMP:20260423T010727
CREATED:20251115T071731Z
LAST-MODIFIED:20251115T071732Z
UID:6430-1763892000-1763920800@www.fernstudis.de
SUMMARY:6. Sitzung des Wahlausschusses
DESCRIPTION:weitere Informationen in der verlinkten Einladung
URL:https://www.fernstudis.de/event/6-sitzung-des-wahlausschusses/
CATEGORIES:Sitzung,wahlen
END:VEVENT
BEGIN:VEVENT
DTSTART;TZID=Europe/Berlin:20251122T100000
DTEND;TZID=Europe/Berlin:20251122T180000
DTSTAMP:20260423T010727
CREATED:20251101T094728Z
LAST-MODIFIED:20251116T210641Z
UID:6375-1763805600-1763834400@www.fernstudis.de
SUMMARY:Abgesagt: Sitzung des Studierendenparlaments
DESCRIPTION:Die geplante Sitzung wurde abgesagt.
URL:https://www.fernstudis.de/event/sitzung-des-studierendenparlaments-2/
CATEGORIES:Sitzung,SP
END:VEVENT
BEGIN:VEVENT
DTSTART;TZID=Europe/Berlin:20251108T100000
DTEND;TZID=Europe/Berlin:20251109T160000
DTSTAMP:20260423T010727
CREATED:20251031T222355Z
LAST-MODIFIED:20251031T222357Z
UID:6368-1762596000-1762704000@www.fernstudis.de
SUMMARY:Sitzung des Wahlausschusses
DESCRIPTION:weitere Informationen in der verlinkten Einladung
URL:https://www.fernstudis.de/event/sitzung-des-wahlausschusses/
CATEGORIES:Sitzung,wahlen
END:VEVENT
BEGIN:VEVENT
DTSTART;TZID=Europe/Berlin:20251018T100000
DTEND;TZID=Europe/Berlin:20251019T150000
DTSTAMP:20260423T010727
CREATED:20250923T135352Z
LAST-MODIFIED:20250926T215419Z
UID:6294-1760781600-1760886000@www.fernstudis.de
SUMMARY:Sitzung des Studierendenparlamentes
DESCRIPTION:weitere Informationen in der verlinkten Einladung
URL:https://www.fernstudis.de/event/sitzung-des-studierendenparlamentes-4/
CATEGORIES:SP
END:VEVENT
BEGIN:VEVENT
DTSTART;TZID=Europe/Berlin:20250928T100000
DTEND;TZID=Europe/Berlin:20250928T170000
DTSTAMP:20260423T010727
CREATED:20250920T153926Z
LAST-MODIFIED:20250920T153927Z
UID:6270-1759053600-1759078800@www.fernstudis.de
SUMMARY:4. Sitzung des Wahlausschusses
DESCRIPTION:weitere Informationen in der verlinkten Einladung
URL:https://www.fernstudis.de/event/4-sitzung-des-wahlausschusses/
CATEGORIES:Sitzung,wahlen
END:VEVENT
BEGIN:VEVENT
DTSTART;TZID=Europe/Berlin:20250921T100000
DTEND;TZID=Europe/Berlin:20250921T170000
DTSTAMP:20260423T010727
CREATED:20250913T122052Z
LAST-MODIFIED:20250913T122053Z
UID:6238-1758448800-1758474000@www.fernstudis.de
SUMMARY:3. Sitzung des Wahlausschusses
DESCRIPTION:weitere Informationen in der verlinkten Einladung
URL:https://www.fernstudis.de/event/3-sitzung-des-wahlausschusses/
CATEGORIES:Sitzung
END:VEVENT
BEGIN:VEVENT
DTSTART;TZID=Europe/Berlin:20250913T120000
DTEND;TZID=Europe/Berlin:20250913T170000
DTSTAMP:20260423T010727
CREATED:20250829T061109Z
LAST-MODIFIED:20250829T061110Z
UID:6219-1757764800-1757782800@www.fernstudis.de
SUMMARY:2. Sitzung des Wahlausschusses
DESCRIPTION:weitere Informationen in der verlinkten Einladung
URL:https://www.fernstudis.de/event/2-sitzung-des-wahlausschusses/
CATEGORIES:Sitzung,wahlen
END:VEVENT
BEGIN:VEVENT
DTSTART;TZID=Europe/Berlin:20250913T100000
DTEND;TZID=Europe/Berlin:20250913T180000
DTSTAMP:20260423T010727
CREATED:20250830T154000Z
LAST-MODIFIED:20250902T154137Z
UID:6225-1757757600-1757786400@www.fernstudis.de
SUMMARY:Sondersitzung des Studierendenparlamentes
DESCRIPTION:weitere Informationen in der verlinkten Einladung
URL:https://www.fernstudis.de/event/sondersitzung-des-studierendenparlamentes/
END:VEVENT
BEGIN:VEVENT
DTSTART;TZID=Europe/Berlin:20250824T110000
DTEND;TZID=Europe/Berlin:20250824T110000
DTSTAMP:20260423T010727
CREATED:20250815T110538Z
LAST-MODIFIED:20250815T110538Z
UID:6208-1756033200-1756033200@www.fernstudis.de
SUMMARY:Konstituierung des Wahlausschusses
DESCRIPTION:weitere Informationen in der verlinkten Einladung
URL:https://www.fernstudis.de/event/konstituierung-des-wahlausschusses/
CATEGORIES:wahlen
END:VEVENT
BEGIN:VEVENT
DTSTART;TZID=Europe/Berlin:20250816T120000
DTEND;TZID=Europe/Berlin:20250816T120000
DTSTAMP:20260423T010727
CREATED:20250611T144110Z
LAST-MODIFIED:20250611T144111Z
UID:6128-1755345600-1755345600@www.fernstudis.de
SUMMARY:Redaktionsschluss Sprachrohr
DESCRIPTION:Artikel\, die in der nächsten Ausgabe des Sprachrohres erscheinen sollen\, müssen bis zum 16. August um 12 Uhr bei der Mailadresse sprachrohr@asta-fernuni.de eingegangen sein.
URL:https://www.fernstudis.de/event/redaktionsschluss-sprachrohr/
END:VEVENT
BEGIN:VEVENT
DTSTART;TZID=Europe/Berlin:20250809T100000
DTEND;TZID=Europe/Berlin:20250810T160000
DTSTAMP:20260423T010727
CREATED:20250719T105844Z
LAST-MODIFIED:20250719T105845Z
UID:6177-1754733600-1754841600@www.fernstudis.de
SUMMARY:Sitzung des Studierendenparlamentes
DESCRIPTION:weitere Informationen in der verlinkten Einladung
URL:https://www.fernstudis.de/event/sitzung-des-studierendenparlamentes-7/
CATEGORIES:Sitzung
END:VEVENT
BEGIN:VEVENT
DTSTART;TZID=Europe/Berlin:20250802T100000
DTEND;TZID=Europe/Berlin:20250802T180000
DTSTAMP:20260423T010727
CREATED:20250723T075109Z
LAST-MODIFIED:20250723T075111Z
UID:6182-1754128800-1754157600@www.fernstudis.de
SUMMARY:AStA-Sitzung
DESCRIPTION:weitere Informationen in der verlinkten Einladung
URL:https://www.fernstudis.de/event/asta-sitzung-4/
CATEGORIES:Sitzung
END:VEVENT
BEGIN:VEVENT
DTSTART;TZID=Europe/Berlin:20250712T100000
DTEND;TZID=Europe/Berlin:20250713T160000
DTSTAMP:20260423T010727
CREATED:20250620T145215Z
LAST-MODIFIED:20250620T145216Z
UID:6139-1752314400-1752422400@www.fernstudis.de
SUMMARY:Sitzung des Studierendenparlamentes
DESCRIPTION:weitere Informationen in der verlinkten Einladung
URL:https://www.fernstudis.de/event/sitzung-des-studierendenparlamentes-3/
CATEGORIES:SP
END:VEVENT
BEGIN:VEVENT
DTSTART;TZID=Europe/Berlin:20250622T110000
DTEND;TZID=Europe/Berlin:20250622T170000
DTSTAMP:20260423T010727
CREATED:20250618T083525Z
LAST-MODIFIED:20250618T083526Z
UID:6131-1750590000-1750611600@www.fernstudis.de
SUMMARY:Sitzung des FSR METI
DESCRIPTION:weitere Informationen in der verlinkten Einladung
URL:https://www.fernstudis.de/event/sitzung-des-fsr-meti/
CATEGORIES:Sitzung
END:VEVENT
BEGIN:VEVENT
DTSTART;TZID=Europe/Berlin:20250614T100000
DTEND;TZID=Europe/Berlin:20250614T190000
DTSTAMP:20260423T010727
CREATED:20250601T195634Z
LAST-MODIFIED:20250601T195635Z
UID:6117-1749895200-1749927600@www.fernstudis.de
SUMMARY:Sitzung des Fachschaftsrates WiWi
DESCRIPTION:weitere Informationen in der verlinkten Einladung
URL:https://www.fernstudis.de/event/sitzung-des-fachschaftsrates-wiwi/
CATEGORIES:Sitzung
END:VEVENT
BEGIN:VEVENT
DTSTART;TZID=Europe/Berlin:20250525T000000
DTEND;TZID=Europe/Berlin:20250525T235959
DTSTAMP:20260423T010727
CREATED:20250430T070654Z
LAST-MODIFIED:20250505T090935Z
UID:6083-1748131200-1748217599@www.fernstudis.de
SUMMARY:wird verschoben: Sitzung des Studierendenparlamentes
DESCRIPTION:weitere Informationen folgen in Kürze
URL:https://www.fernstudis.de/event/sitzung-des-studierendenparlamentes/
CATEGORIES:SP
END:VEVENT
BEGIN:VEVENT
DTSTART;TZID=Europe/Berlin:20250511T100000
DTEND;TZID=Europe/Berlin:20250511T180000
DTSTAMP:20260423T010727
CREATED:20250428T143401Z
LAST-MODIFIED:20250428T143402Z
UID:6080-1746957600-1746986400@www.fernstudis.de
SUMMARY:AStA-Sitzung
DESCRIPTION:weitere Informationen in der verlinkten Einladung
URL:https://www.fernstudis.de/event/asta-sitzung/
CATEGORIES:Sitzung
END:VEVENT
END:VCALENDAR