Workbook
Name AEFKKSW_413.21: #REF!
Name AEFKKSW_527.40: #REF!
Name AEFKKSW_529.40: #REF!
Name AEFKKSW_531.40: #REF!
Name AEFKM_I_413.21: #REF!
Name AEFKM_I_527.40: #REF!
Name AEFKM_I_529.40: #REF!
Name AEFKM_I_531.40: #REF!
Name AEFKPSY_413.21: #REF!
Name AEFKPSY_527.40: #REF!
Name AEFKPSY_529.40: #REF!
Name AEFKPSY_531.40: #REF!
Name AEFKRewi_413.21: #REF!
Name AEFKRewi_527.40: #REF!
Name AEFKRewi_529.40: #REF!
Name AEFKRewi_531.40: #REF!
Name AEFKWiwi_413.21: #REF!
Name AEFKWiwi_527.40: #REF!
Name AEFKWiwi_529.40: #REF!
Name AEFKWiwi_531.40: #REF!
Name AStA_Bew.Ext.: Haushalt!$D$178
Name AStA_Bew.Int.: Haushalt!$D$158
Name AStA_Druck: Haushalt!$D$180
Name AStA_Einn.Bew.: Haushalt!$D$24
Name AStA_Ext.RK: Haushalt!$D$177
Name AStA_Hon_I: Haushalt!$D$175
Name AStA_Hon_II: Haushalt!$D$176
Name AStA_R_U_Ext.: Haushalt!$D$179
Name AStA_R_U_Int.: Haushalt!$D$147
Name AStA_Referate: Haushalt!$D$97
Name AStA_RK_Int.: Haushalt!$D$135
Name AStA_SKP: Haushalt!$D$99
Name AStA_Sonst.: Haushalt!$D$181
Name AStA_TN_2: Haushalt!$D$20
Name AStA_TN_I: Haushalt!$D$19
Name AStA_VBG: Haushalt!$D$100
Name Beschäft._VBG: Haushalt!$D$107
Name BHS_II: #REF!
Name BR_Besch.: Haushalt!$D$106
Name BR_Beschäft.: Haushalt!$D$106
Name Bundesknappschaft: Haushalt!$D$98
Name Campus_Bew.: #REF!
Name Förderungen: Haushalt!$D$27
Name Förderungen_Sonst: Haushalt!$D$30
Name Gehälter_Beschäft.: Haushalt!$D$103
Name IT_Dienstl.: #REF!
Name IT_Mieten: Haushalt!$D$125
Name IT_Mieten_Ges.: #REF!
Name KSW_AE_var: Haushalt!$D$90
Name KSW_Bew.Ext.: Haushalt!$D$204
Name KSW_Bew.Int.: Haushalt!$D$162
Name KSW_Druck: Haushalt!$D$216
Name KSW_Ext.RK: Haushalt!$D$198
Name KSW_Hon_I: Haushalt!$D$186
Name KSW_Hon_II: Haushalt!$D$192
Name KSW_R_U_Ext.: Haushalt!$D$210
Name KSW_R_U_Int.: Haushalt!$D$150
Name KSW_RK_Int.: Haushalt!$D$138
Name KSW_Sonst.: Haushalt!$D$222
Name KSW_Sonst_Einnahmen: Haushalt!$D$53

Sheet Haushalt
A1: AStA Entwurf zum HHP 2025/2026
A3: Einnahmen der Studierendenschaft | X3: 46223
A5: Titel | B5: Spalte1 | C5: Titel alt | D5: Kontenbezeichnung | E5: SOLL HHJ 21-22 | F5: IST HHJ 21-22 | G5: SOLL HHJ 22-23 SP 17.12.22 | H5: IST HHJ 22-23 30.09.2023 | I5: SOLL HHJ 23-24 SP 11.11.2023 | J5: IST HHJ 22-23 30.09.20242 | K5: SOLL HHJ 24-25 SP 07.09.2024 | L5: IST HHJ 24-25 30.09.2025 | M5: SOLL HHJ 25-26 SP 07.09.2024 12tel-HH | N5: ENTWURF AStA vom 5.7.2026 | O5: IST HHJ 25-26 31.10.2025 | P5: IST HHJ 25-26 30.11.2025 | Q5: IST HHJ 25-26 31.12.2025 | R5: IST HHJ 25-26 31.01.2026 | S5: IST HHJ 25-26 28.02.2026 | T5: IST HHJ 25-26 31.03.2026 | U5: IST HHJ 25-26 30.04.2026 | V5: IST HHJ 25-26 31.05.2026 | W5: IST HHJ 25-26 30.06.2026 | X5: IST HHJ 25-26 31.07.2026 | Y5: IST HHJ 25-26 31.08.2026
A6: Plan 1 | B6: =ROW(B1) -> 1 | D6: Einnahmen AStA und Studierendenparlament | E6: 600000 | F6: =F7+F11++F18+F23+F27+F32 -> 591157.19 | G6: 1076950 | H6: 1076480.7 | I6: 774226.25 | J6: 1052549.4 | K6: =K7+K11++K18+K23+K27+K32 -> 1094600 | L6: 538261.15 | M6: 1094600 | N6: =N7+N11+N18+N23+N27+N32 -> 5345.52 | O6: =O7+O11+O18+O23+O27+O32 -> 207 | P6: =P7+P11+P18+P23+P27+P32 -> 1318.82 | Q6: =Q7+Q11+Q18+Q23+Q27+Q32 -> 1685.56 | R6: =R7+R11+R18+R23+R27+R32 -> 1775.56 | S6: =S7+S11+S18+S23+S27+S32 -> 3065.56 | T6: =T7+T11+T18+T23+T27+T32 -> 3883.53 | U6: =U7+U11++U18+U23+U27+U32 -> 4123.53 | V6: =V7+V11++V18+V23+V27+V32 -> 4188.53 | W6: =W7+W11++W18+W23+W27+W32 -> 4261.38 | X6: 4301.38 | Y6: 4797.38
A7: 111.00 | B7: =ROW(B2) -> 2 | D7: Studierendenschaftsbeiträge | E7: =SUBTOTAL(9,E8:E9) -> 560000 | F7: =SUBTOTAL(9,F8:F9) -> 578722.64 | G7: =SUBTOTAL(9,G8:G9) -> 1044000 | H7: 1066613.7 | I7: =SUBTOTAL(9,I8:I9) -> 752600 | J7: 1047303.2 | K7: 1075000 | L7: 530792.35 | M7: 1075000 | N7: =SUBTOTAL(9,N8:N9) -> 1305.52 | O7: =SUBTOTAL(9,O8:O9) -> 0 | P7: =SUBTOTAL(9,P8:P9) -> 800.81 | Q7: =SUBTOTAL(9,Q8:Q9) -> 1052.55 | R7: =SUBTOTAL(9,R8:R9) -> 1052.55 | S7: =SUBTOTAL(9,S8:S9) -> 1052.55 | T7: =SUBTOTAL(9,T8:T9) -> 1305.52 | U7: =SUBTOTAL(9,U8:U9) -> 1305.52 | ... W7: =SUBTOTAL(9,W8:W9) -> 1305.52 | X7: 1305.52 | Y7: 1761.52
A8: 111.10 | B8: =ROW(B3) -> 3 | C8: 341.00 (x0) | D8: Wintersemester | E8: 0 | G8: =(58000*9)*1.05 -> 548100 | H8: 1066613.4 | I8: 500850 | J8: 1047303.2 | K8: 535000 | L8: 526881.85 | M8: 535000 | N8: 1305.52 | O8: 0 | P8: 800.81 | Q8: 1052.55 | R8: 1052.55 | S8: 1052.55 | T8: 1305.52 | U8: 1305.52 | V8: 1305.52 | W8: 1305.52 | X8: 1305.52 | Y8: 1761.52
A9: 111.20 | B9: =ROW(B4) -> 4 | C9: 341.00 (x1) | D9: Sommersemester | E9: 560000 | F9: 578722.64 | G9: =(58000*9)*0.95 -> 495900 | H9: 0 | I9: 251750 | J9: 0 | K9: 540000 | L9: 3910.5 | M9: 540000 | N9: 0 | O9: 0 | P9: 0 | Q9: 0 | R9: 0 | S9: 0 | T9: 0 | U9: 0 | V9: 0 | W9: 0 | X9: 0 | Y9: 0
B10: =ROW(B5) -> 5
A11: 119.00 | B11: =ROW(B6) -> 6 | D11: Vermischte Einnahmen | E11: =SUBTOTAL(9,E12:E15) -> 6000 | F11: =SUBTOTAL(9,F12:F15) -> 6205 | G11: =SUBTOTAL(9,G12:G15) -> 2000 | H11: =SUBTOTAL(9,H12:H15) -> 3805 | I11: =SUBTOTAL(9,I12:I15) -> 4500 | J11: 369 | K11: =SUBTOTAL(9,K12:K15) -> 5100 | L11: 1131 | M11: 5100 | N11: =SUBTOTAL(9,N12:N15) -> 40 | O11: =SUBTOTAL(9,O12:O15) -> 0 | P11: =SUBTOTAL(9,P12:P15) -> 0 | Q11: =SUBTOTAL(9,Q12:Q15) -> 0 | R11: =SUBTOTAL(9,R12:R15) -> 0 | S11: =SUBTOTAL(9,S12:S15) -> 0 | T11: =SUBTOTAL(9,T12:T15) -> 0 | U11: =SUBTOTAL(9,U12:U15) -> 0 | ... W11: =SUBTOTAL(9,W12:W15) -> 32.85 | X11: 32.85 | Y11: 32.85
A12: 119.10 | B12: =ROW(B7) -> 7 | C12: 125.10, 125.20 | D12: Werbung und Anzeigen | E12: 6000 | F12: 6205 | G12: 2000 | H12: 3805 | I12: 4000 | J12: 300 | K12: 1000 | L12: 1200 | M12: 1000 | N12: 0 | O12: 0 | P12: 0 | Q12: 0 | R12: 0 | S12: 0 | T12: 0 | U12: 0 | V12: 0 | W12: 0 | X12: 0 | Y12: 0
A13: 119.20 | B13: =ROW(B8) -> 8 | C13: 119.21 | D13: Spenden | E13: 0 | F13: 0 | G13: 0 | H13: 0 | I13: 0 | J13: 0 | K13: 0 | L13: 0 | M13: 0 | N13: 0 | O13: 0 | P13: 0 | Q13: 0 | R13: 0 | S13: 0 | T13: 0 | U13: 0 | V13: 0 | W13: 0 | X13: 0 | Y13: 0
A14: 119.30 | B14: =ROW(B9) -> 9 | C14: 162.00 | D14: Zinsen | E14: 0 | F14: 0 | G14: 0 | H14: 0 | I14: 500 | J14: 0 | K14: 4000 | L14: 0 | M14: 4000 | N14: 0 | O14: 0 | P14: 0 | Q14: 0 | R14: 0 | S14: 0 | T14: 0 | U14: 0 | V14: 0 | W14: 0 | X14: 0 | Y14: 0
A15: 119.40 | B15: =ROW(B9) -> 9 | C15: 119.22 | D15: Sonstige | E15: 0 | F15: 0 | G15: 0 | H15: 0 | I15: 0 | J15: 69 | K15: 100 | L15: -69 | M15: 100 | N15: 40 | O15: 0 | P15: 0 | Q15: 0 | R15: 0 | S15: 0 | T15: 0 | U15: 0 | V15: 0 | W15: 32.85 | X15: 32.85 | Y15: 32.85
B16: =ROW(B10) -> 10
B17: =ROW(#REF!) -> #REF!
A18: 129.00 | B18: =ROW(#REF!) -> #REF! | D18: Teilnahmebeiträge | E18: =SUBTOTAL(9,E19:E21) -> 11625 | F18: =SUBTOTAL(9,F19:F20) -> 0 | G18: 10250 | H18: =SUBTOTAL(9,H19:H20) -> 800 | I18: 2950 | J18: 2161.2 | K18: =SUBTOTAL(9,K19:K20) -> 4000 | L18: 553.8 | M18: 4000 | N18: =SUBTOTAL(9,N19:N21) -> 0 | O18: =SUBTOTAL(9,O19:O20) -> 0 | P18: =SUBTOTAL(9,P19:P20) -> 0 | Q18: =SUBTOTAL(9,Q19:Q20) -> 0 | R18: =SUBTOTAL(9,R19:R20) -> 0 | S18: =SUBTOTAL(9,S19:S20) -> 0 | T18: =SUBTOTAL(9,T19:T20) -> 0 | U18: =SUBTOTAL(9,U19:U20) -> 0 | V18: =SUBTOTAL(9,V19:V20) -> 0 | W18: =SUBTOTAL(9,W19:W20) -> 0 | X18: 0 | Y18: 0
A19: 129.10 | B19: =ROW(#REF!) -> #REF! | C19: 129.70 (x0,2) | D19: AStA Seminare | E19: 500 | F19: 0 | G19: 5200 | H19: 160 | I19: 2500 | J19: 432.24 | K19: 2000 | L19: 0 | M19: 2000 | N19: 0 | O19: 0 | P19: 0 | Q19: 0 | R19: 0 | S19: 0 | T19: 0 | U19: 0 | V19: 0 | W19: 0 | X19: 0 | Y19: 0
A20: 129.20 | B20: =ROW(#REF!) -> #REF! | C20: 129.70 (x0,8), 129.80 (x0,25), 129.90 (x0,55) | D20: AStA-Veranstaltungen | E20: 11125 | F20: 0 | G20: 5050 | H20: 640 | I20: 450 | J20: 1728.96 | K20: 2000 | L20: 553.8 | M20: 2000 | N20: 0 | O20: 0 | P20: 0 | Q20: 0 | R20: 0 | S20: 0 | T20: 0 | U20: 0 | V20: 0 | W20: 0 | X20: 0 | Y20: 0
A21: 129.30 | B21: =ROW(#REF!) -> #REF! | C21: n.a. | D21: Stupa-Veranstaltungen | E21: 0 | F21: 0 | G21: 0 | H21: 0 | I21: 0 | K21: 0 | L21: 0 | M21: 0 | N21: 0 | O21: 0 | P21: 0 | Q21: 0 | R21: 0 | S21: 0 | T21: 0 | U21: 0 | V21: 0 | W21: 0 | X21: 0 | Y21: 0
B22: =ROW(B17) -> 17
A23: 130.00 | B23: =ROW(B18) -> 18 | D23: Einnahmen aus Bewirtung | E23: =SUBTOTAL(9,E24:E25) -> 0 | F23: =SUBTOTAL(9,F24:F25) -> 0 | G23: =SUBTOTAL(9,G24:G25) -> 0 | H23: =SUBTOTAL(9,H24:H25) -> 0 | I23: =SUBTOTAL(9,I24:I25) -> 0 | J23: 0 | K23: =SUBTOTAL(9,K24:K25) -> 500 | L23: 0 | M23: 500 | N23: =SUBTOTAL(9,N24:N25) -> 0 | O23: =SUBTOTAL(9,O24:O25) -> 0 | P23: =SUBTOTAL(9,P24:P25) -> 0 | Q23: =SUBTOTAL(9,Q24:Q25) -> 0 | R23: =SUBTOTAL(9,R24:R25) -> 0 | S23: =SUBTOTAL(9,S24:S25) -> 0 | T23: =SUBTOTAL(9,T24:T25) -> 0 | U23: =SUBTOTAL(9,U24:U25) -> 0 | ... W23: =SUBTOTAL(9,W24:W25) -> 0 | X23: 0 | Y23: 0
A24: 130.10 | B24: =ROW(B19) -> 19 | C24: n.a. | D24: AStA | E24: 0 | F24: 0 | G24: 0 | H24: 0 | I24: 0 | K24: 500 | L24: 0 | M24: 500 | N24: 0 | O24: 0 | P24: 0 | Q24: 0 | R24: 0 | S24: 0 | T24: 0 | U24: 0 | V24: 0 | W24: 0 | X24: 0 | Y24: 0
A25: 130.20 | B25: =ROW(B20) -> 20 | C25: n.a. | D25: SP-Veranstaltungen | E25: 0 | F25: 0 | G25: 0 | H25: 0 | I25: 0 | K25: 0 | L25: 0 | M25: 0 | N25: 0 | O25: 0 | P25: 0 | Q25: 0 | R25: 0 | S25: 0 | T25: 0 | U25: 0 | V25: 0 | W25: 0 | X25: 0 | Y25: 0
B26: =ROW(B21) -> 21
A27: 140.00 | B27: =ROW(B22) -> 22 | D27: Einnahmen aus Förderungen und Kooperationen | E27: =SUBTOTAL(9,E28:E30) -> 15375 | F27: =SUBTOTAL(9,F28:F30) -> 0 | G27: =SUBTOTAL(9,G28:G30) -> 17100 | H27: =SUBTOTAL(9,H28:H30) -> 0 | I27: 9176.25 | J27: 0 | K27: =SUBTOTAL(9,K28:K30) -> 6000 | L27: 0 | M27: 6000 | N27: =SUBTOTAL(9,N28:N30) -> 0 | O27: =SUBTOTAL(9,O28:O30) -> 0 | P27: =SUBTOTAL(9,P28:P30) -> 0 | Q27: =SUBTOTAL(9,Q28:Q30) -> 0 | R27: =SUBTOTAL(9,R28:R30) -> 0 | S27: =SUBTOTAL(9,S28:S30) -> 0 | T27: =SUBTOTAL(9,T28:T30) -> 0 | U27: =SUBTOTAL(9,U28:U30) -> 0 | ... W27: =SUBTOTAL(9,W28:W30) -> 0 | X27: 0 | Y27: 0
A28: 140.10 | B28: =ROW(B23) -> 23 | C28: 129.80 (x0,75) | D28: Förderungen Inkl. U. Gleichstellung | E28: 10875 | F28: 0 | G28: 10800 | H28: 0 | I28: 9176.25 | J28: 0 | K28: 5000 | L28: 0 | M28: 5000 | N28: 0 | O28: 0 | P28: 0 | Q28: 0 | R28: 0 | S28: 0 | T28: 0 | U28: 0 | V28: 0 | W28: 0 | X28: 0 | Y28: 0
A29: 140.20 | B29: =ROW(B24) -> 24 | C29: 129.90 (x0,45) | D29: Förderungen Hopo | E29: 4500 | F29: 0 | G29: 4800 | H29: 0 | I29: 0 | J29: 0 | K29: 1000 | L29: 0 | M29: 1000 | N29: 0 | O29: 0 | P29: 0 | Q29: 0 | R29: 0 | S29: 0 | T29: 0 | U29: 0 | V29: 0 | W29: 0 | X29: 0 | Y29: 0
A30: 140.30 | B30: =ROW(B25) -> 25 | C30: n.a. | D30: Sonstige Förderungen und Kooperationen | E30: 0 | F30: 0 | G30: 1500 | H30: 0 | I30: 0 | K30: 0 | L30: 0 | M30: 0 | N30: 0 | O30: 0 | P30: 0 | Q30: 0 | R30: 0 | S30: 0 | T30: 0 | U30: 0 | V30: 0 | W30: 0 | X30: 0 | Y30: 0
B31: =ROW(B26) -> 26
A32: 182.00 | B32: =ROW(B27) -> 27 | D32: Darlehensrückflüsse | E32: =SUBTOTAL(9,E33:E34) -> 7000 | F32: =SUBTOTAL(9,F33:F34) -> 6229.55 | G32: =SUBTOTAL(9,G33:G34) -> 3600 | H32: =SUBTOTAL(9,H33:H34) -> 5262 | I32: 5000 | J32: 2715.99 | K32: =SUBTOTAL(9,K33:K34) -> 4000 | L32: 5784 | M32: 4000 | N32: =SUBTOTAL(9,N33:N34) -> 4000 | O32: =SUBTOTAL(9,O33:O34) -> 207 | P32: =SUBTOTAL(9,P33:P34) -> 518.01 | Q32: =SUBTOTAL(9,Q33:Q34) -> 633.01 | R32: =SUBTOTAL(9,R33:R34) -> 723.01 | S32: =SUBTOTAL(9,S33:S34) -> 2013.01 | T32: =SUBTOTAL(9,T33:T34) -> 2578.01 | U32: =SUBTOTAL(9,U33:U34) -> 2818.01 | ... W32: =SUBTOTAL(9,W33:W34) -> 2923.01 | X32: 2963.01 | Y32: 3003.01
A33: 182.10 | B33: =ROW(B28) -> 28 | C33: 182.00 | D33: Aus Darlehen 40 33 01 | E33: 7000 | F33: 6229.55 | G33: 3600 | H33: 5262 | I33: 5000 | J33: 2715.99 | K33: 4000 | L33: 5784 | M33: 4000 | N33: 4000 | O33: 207 | P33: 518.01 | Q33: 633.01 | R33: 723.01 | S33: 2013.01 | T33: 2578.01 | U33: 2818.01 | V33: 2883.01 | W33: 2923.01 | X33: 2963.01 | Y33: 3003.01
A34: 182.20 | B34: =ROW(B29) -> 29 | C34: n.a. | D34: Aus Internationalisierungsdarlehen | E34: 0 | F34: 0 | G34: 0 | H34: 0 | I34: 0 | K34: 0 | L34: 0 | M34: 0 | N34: 0 | O34: 0 | P34: 0 | Q34: 0 | R34: 0 | S34: 0 | T34: 0 | U34: 0 | V34: 0 | W34: 0 | X34: 0 | Y34: 0
B35: =ROW(B30) -> 30
A36: Plan 2 | B36: =ROW(B31) -> 31 | D36: Einnahmen Fachschaften | E36: 85000 | F36: 89402 | G36: 146529.5 | H36: 71915.37 | I36: 118160 | J36: 82434.34 | K36: =K37+K44+K51 -> 95000 | L36: 85344.97 | M36: 95000 | N36: =N37+N44+N51 -> 83000 | O36: =O37+O44+O51 -> 3929.1 | P36: =P37+P44+P51 -> 7164.1 | Q36: =Q37+Q44+Q51 -> 7379 | R36: =R37+R44+R51 -> 24851.89 | S36: =S37+S44+S51 -> 38687.48 | T36: =T37+T44+T51 -> 42187.48 | U36: =U37+U44+U51 -> 42712.48 | ... W36: =W37+W44+W51 -> 44322.48 | X36: 54805.28 | Y36: 79377.36
A37: 210.00 | B37: =ROW(B32) -> 32 | D37: Teilnahmebeiträge Seminare Fachschaften | E37: 85000 | F37: 89402 | G37: 145329.5 | H37: 71915.37 | I37: 117660 | J37: 82434.34 | K37: =SUBTOTAL(9,K38:K42) -> 95000 | L37: 85344.97 | M37: 95000 | N37: =SUBTOTAL(9,N38:N42) -> 83000 | O37: =SUBTOTAL(9,O38:O42) -> 3929.1 | P37: =SUBTOTAL(9,P38:P42) -> 7164.1 | Q37: =SUBTOTAL(9,Q38:Q42) -> 7379 | R37: =SUBTOTAL(9,R38:R42) -> 24851.89 | S37: =SUBTOTAL(9,S38:S42) -> 38687.48 | T37: =SUBTOTAL(9,T38:T42) -> 42187.48 | U37: =SUBTOTAL(9,U38:U42) -> 42712.48 | ... W37: =SUBTOTAL(9,W38:W42) -> 44322.48 | X37: 54805.28 | Y37: 79377.36
A38: 210.10 | B38: =ROW(B33) -> 33 | C38: 129.10 | D38: FSR WiWi | E38: 23000 | F38: 37605 | G38: 56381 | H38: 37655.37 | I38: 46150 | J38: 44449.34 | K38: 48000 | L38: 45959.97 | M38: 48000 | N38: 45000 | O38: 449.1 | P38: 449.1 | Q38: 499 | R38: 14071.89 | S38: 21357.48 | T38: 21307.48 | U38: 21307.48 | V38: 21307.48 | W38: 21307.48 | X38: 29890.28 | Y38: 43062.36
A39: 210.20 | B39: =ROW(B34) -> 34 | C39: 129.20 | D39: FSR KSW | E39: 1500 | F39: 318 | G39: 10576 | H39: 2690 | I39: 8510 | J39: 2595 | K39: 4500 | L39: 1200 | M39: 4500 | N39: 0 | O39: 0 | P39: 0 | Q39: 0 | R39: 0 | S39: 0 | T39: 0 | U39: 0 | V39: 0 | W39: 0 | X39: 0 | Y39: 0
A40: 210.30 | B40: =ROW(B35) -> 35 | C40: 129.60 | D40: FSR PSY | E40: 24000 | F40: 23964 | G40: 29222 | H40: 0 | I40: 24000 | J40: 0 | K40: 4500 | L40: 0 | M40: 4500 | N40: 0 | O40: 0 | P40: 0 | Q40: 0 | R40: 0 | S40: 0 | T40: 0 | U40: 0 | V40: 0 | W40: 0 | X40: 0 | Y40: 0
A41: 210.40 | B41: =ROW(B36) -> 36 | C41: 129.40 | D41: FSR ReWi | E41: 32000 | F41: 24965 | G41: 29578 | H41: 23885 | I41: 23500 | J41: 28160 | K41: 25000 | L41: 26800 | M41: 25000 | N41: 25000 | O41: 1400 | P41: 3700 | Q41: 3700 | R41: 7600 | S41: 14150 | T41: 15000 | U41: 15350 | V41: 15800 | W41: 15300 | X41: 17200 | Y41: 26800
A42: 210.50 | B42: =ROW(B37) -> 37 | C42: 129.30 | D42: FSR M+I | E42: 4500 | F42: 2550 | G42: 19572.5 | H42: 7685 | I42: 15500 | J42: 7230 | K42: 13000 | L42: 11385 | M42: 13000 | N42: 13000 | O42: 2080 | P42: 3015 | Q42: 3180 | R42: 3180 | S42: 3180 | T42: 5880 | U42: 6055 | V42: 7550 | W42: 7715 | X42: 7715 | Y42: 9515
...

Sheet 209050 Sonderrücklagen Steuern
A1: Entnahme aus der 919.30 Sonderrücklage Steuern
A2: Stand 01.11.2025 = 100.000,00 EUR
A5: Buchungsdatum | B5: BelegNr. | C5: Betrag | D5: Zweck | E5: Angewiesen durch | G5: Saldo Sonderrücklage Steuern nach Entnahme
A6: 45989 | B6: 220330 | C6: 5000 | D6: Verstärkungsmittel an die BHS | E6: AStA Beschluss UB 002/2025 | G6: =100000-C6 -> 95000
A7: 46014 | B7: 220407 | C7: 5000 | D7: Verstärkungsmittel an die BHS | E7: AStA Beschluss UB 003/2025 | G7: =G6-C7 -> 90000
A8: 46031 | B8: 220441 | C8: 37500 | D8: Verstärkungsmittel Darlehen an die BHS | E8: AStA Beschluss UB 001/2026 | G8: 52500
A9: 46031 | B9: 220442 | C9: 37500 | D9: Verstärkungsmittel Darlehen an die BHS | E9: AStA Beschluss UB 001/2026 | G9: 15000

Sheet Vermerk_Korrektur_SV_Knappschaf
A1: 379000 Lohn- und Gehaltsverrechnungen
A3: Korrektur der SV-Beiträge der Bundesknappschaft. Diese wurden aus den SV-Beiträgen der AN rausgerechnet
A4: und dem Titel 603600 addiert.
A6: Datum | C6: Gegenkonto | D6: Buchungstext | E6: Belegfeld1 | F6: Umsatz Soll | G6: Umsatz Haben | H6: Stapel-Nr. | I6: BSNr. | J6: KOST1
A7: 45961 | C7: 603600 | D7: Pauschale Steuer für Minijobber | E7: 202510 | G7: 90 | H7: 10-2025/0003 | I7: 8 | J7: 11300
A8: 45961 | C8: 374000 | D8: Verb. Bundesknappschaft/Minijobzentrale | E8: 202510 | G8: 1223.1 | H8: 10-2025/0003 | I8: 28 | J8: 9
A9: 45991 | C9: 603600 | D9: Pauschale Steuer für Minijobber | E9: 202511 | G9: 90 | H9: 11-2025/0002 | I9: 13 | J9: 11300
A10: 45991 | C10: 374000 | D10: Verb. Bundesknappschaft/Minijobzentrale | E10: 202511 | G10: 1223.1 | H10: 11-2025/0003 | I10: 37 | J10: 9
A11: 46022 | C11: 603600 | D11: Pauschale Steuer für Minijobber | E11: 202512 | G11: 90 | H11: 12-2025/0002 | I11: 9 | J11: 11300
A12: 46022 | C12: 374000 | D12: Verb. Bundesknappschaft/Minijobzentrale | E12: 202512 | G12: 1223.1 | H12: 12-2025/0003 | I12: 31 | J12: 9
A13: 46053 | C13: 603600 | D13: Pauschale Steuer für Minijobber | E13: 202601 | G13: 90 | H13: 01-20263/0002 | I13: 8 | J13: 11300
A14: 46053 | C14: 374000 | D14: Verb. Bundesknappschaft/Minijobzentrale | E14: 202601 | G14: 1223.1 | H14: 01-2026/0002 | I14: 28 | J14: 9
A15: 46081 | C15: 603600 | D15: Pauschale Steuer für Minijobber | E15: 202602 | G15: 90 | H15: 02-2026/0002 | I15: 8 | J15: 11300
A16: 46081 | C16: 374000 | D16: Verb. Bundesknappschaft/Minijobzentrale | E16: 202602 | G16: 1223.1 | H16: 02-2026/0002 | I16: 28 | J16: 9
A17: 46112 | C17: 603600 | D17: Pauschale Steuer für Minijobber | E17: 202603 | G17: 37.2 | H17: 03-2026/0002 | I17: 11 | J17: 11300
A18: 46112 | C18: 374000 | D18: Verb. Bundesknappschaft/Minijobzentrale | E18: 202603 | G18: 1207.86 | H18: 03-2026/0002 | I18: 30 | J18: 9
... A24: 46203 | C24: 374000 | D24: Verb. Bundesknappschaft/Minijobzentrale | E24: 202605 | G24: 1321.11 | H24: 04-2026/0001 | I24: 306 | J24: 9

Sheet HHJ_2024_2025
D1: HHJ | E1: HHJ | F1: HHJ | G1: HHJ | H1: HHJ | I1: HHJ | J1: Nachtrag HHJ | K1: HHJ | L1: HHJ | M1: HHJ | N1: HHJ | O1: HHJ | P1: HHJ | Q1: HHJ | R1: HHJ | S1: HHJ | T1: HHJ | U1: HHJ | V1: HHJ | W1: HHJ | X1: HHJ | Y1: HHJ
D2: 2021 / 2022 | E2: 2021 / 2022 | F2: 2022/2023 | G2: 2022 / 2023 | H2: 2022 / 2023 | I2: 2023 / 2024 | J2: 2023 / 2024 | K2: 2023 / 2024 | L2: 2024 / 2025 | M2: 2024 / 2025 | N2: 2024 / 2025 | O2: 2024 / 2025 | P2: 2024 / 2025 | Q2: 2024 / 2025 | R2: 2024 / 2025 | S2: 2024 / 2025 | T2: 2024 / 2025 | U2: 2024 / 2025 | V2: 2024 / 2025 | W2: 2024 / 2025 | X2: 2024 / 2025 | Y2: 2024 / 2025
D3: Soll | E3: IST | F3: Soll | G3: SOLL | H3: IST | I3: SOLL | J3: SOLL | K3: IST | L3: SOLL | M3: SOLL | N3: IST | O3: IST | P3: IST | Q3: IST | R3: IST | S3: IST | T3: IST | U3: IST | V3: IST | W3: IST | X3: IST | Y3: IST
A4: Stand | C4: Titelbezeichnung | D4: SP-Beschluss 04.09.21 | E4: 44834 | F4: SP-Beschluss | G4: SP-Beschluss 17.12.22 | H4: 45199 | I4: SP-Beschluss 11.11.2023 | J4: SP-Beschluss 07.09.2024 | K4: 45565 | M4: Nachtrag | N4: 45596 | O4: 45626 | P4: 45657 | Q4: 45688 | R4: 45716 | S4: 45747 | T4: 45777 | U4: 45808 | V4: 45838 | W4: 45869 | X4: 45900 | Y4: 45930
A5: Einnahmen
A6: 119.2 | B6: NEU ab 22/23 | C6: Vermischte Einnahmen
A7: 119.21 | B7: 119.20 | C7: Spende | D7: 0 | E7: 0 | F7: 0 | G7: 0 | H7: 0 | I7: 0 | J7: 0 | K7: 0 | N7: 0 | O7: 0 | P7: 0 | Q7: 0 | R7: 0 | S7: 0 | T7: 0 | U7: 0 | V7: 0 | W7: 0 | X7: 0 | Y7: 0
A8: 119.22 | B8: 119.40+140.30 | C8: sonst. Einnahmen | D8: 0 | E8: 0 | F8: 0 | G8: 0 | H8: 0 | I8: 0 | J8: 0 | K8: 69 | N8: 74 | O8: -69 | P8: -69 | Q8: -69 | R8: -69 | S8: -69 | T8: -69 | U8: 46 | V8: -69 | W8: -69 | X8: -69 | Y8: -69
A9: 125.10 | B9: 119.10 | C9: Einnahmen aus kommerz. Anzeigen | D9: 5000 | E9: 6205 | F9: 5000 | G9: 2000 | H9: 3805 | I9: 2000 | J9: 1000 | K9: 300 | N9: 0 | O9: 0 | P9: 1200 | Q9: 1200 | R9: 1200 | S9: 1200 | T9: 1200 | U9: 1200 | V9: 1200 | W9: 1200 | X9: 1200 | Y9: 1200
A10: 125.20 | B10: 119.10 | C10: Einnahmen aus kommerz.Anz.Web+and. | D10: 1000 | E10: 0 | F10: 1000 | G10: 0 | H10: 0 | I10: 2000 | J10: 0 | K10: 0 | N10: 0 | O10: 0 | P10: 0 | Q10: 0 | R10: 0
A11: 129.0 | C11: Einnahmen aus Veranstaltungen
A12: 129.10 | B12: 210.10+220.10 | C12: Einnahmen aus Veranst. FSR WiWi | D12: 23000 | E12: 37605 | F12: 23000 | G12: 56381 | H12: 37655.37 | I12: 46150 | J12: 46150 | K12: 44449.34 | N12: 149.7 | O12: 149.7 | P12: 948.3 | Q12: 16717.1 | R12: 22755 | S12: 23303.9 | T12: 23553.4 | U12: 23553.4 | V12: 25000.5 | W12: 38922.79 | X12: 45510.87 | Y12: 45959.97
A13: 129.20 | B13: 210.20+220.20 | C13: Einnahmen aus Veranst. FSR KSW | D13: 1500 | E13: 318 | F13: 1500 | G13: 11776 | H13: 2690 | I13: 9010 | J13: 3500 | K13: 2595 | N13: 870 | O13: 1080 | P13: 1095 | Q13: 1095 | R13: 1095 | S13: 1095 | T13: 1245 | U13: 1245 | V13: 1245 | W13: 1200 | X13: 1200 | Y13: 1200
A14: 129.30 | B14: 210.50+220.50 | C14: Einnahmen aus Veranst. FSR M+I | D14: 4500 | E14: 2550 | F14: 4500 | G14: 19572.5 | H14: 7685 | I14: 15500 | J14: 9000 | K14: 7230 | N14: 0 | O14: 2530 | P14: 3430 | Q14: 3730 | R14: 5730 | S14: 6525 | T14: 8285 | U14: 8175 | V14: 8285 | W14: 8285 | X14: 9685 | Y14: 11385
A15: 129.40 | B15: 210.40+220.40 | C15: Einnahmen aus Veranst. FSR ReWi | D15: 32000 | E15: 24965 | F15: 32000 | G15: 29578 | H15: 23885 | I15: 23500 | J15: 25000 | K15: 28160 | N15: 1850 | O15: 2600 | P15: 2550 | Q15: 6250 | R15: 14400 | S15: 15350 | T15: 15750 | U15: 15800 | V15: 15650 | W15: 23700 | X15: 26950 | Y15: 26800
A16: 129.50 | C16: Einnahmen aus Veranst.Interessengruppen | D16: 0 | E16: 0 | F16: 0 | G16: 0 | H16: 0 | I16: 0 | J16: 0 | K16: 0 | N16: 0 | O16: 0 | P16: 0 | Q16: 0 | R16: 0 | S16: 0 | T16: 0 | U16: 0 | V16: 0 | W16: 0 | X16: 0 | Y16: 0
A17: 129.60 | B17: 210.30+220.30 | C17: Einnahmen aus Veranst. FSR Pych | D17: 24000 | E17: 23964 | F17: 24000 | G17: 29222 | H17: 0 | I17: 24000 | J17: 0 | K17: 0 | N17: 0 | O17: 0 | P17: 0 | Q17: 0 | R17: 0 | S17: 0 | T17: 0 | U17: 0 | V17: 0 | W17: 0 | X17: 0 | Y17: 0
A18: 129.70 | B18: 129.10+129.20 | C18: Einnahmen aus sonst.AStA-Veranst. | D18: 2500 | E18: 0 | F18: 2500 | G18: 10250 | H18: 800 | I18: =2500+225 -> 2725 | J18: 2500 | K18: 2161.2 | N18: 0 | O18: 0 | P18: 0 | Q18: 0 | R18: 0 | S18: 323.05 | T18: 507.65 | U18: 507.65 | V18: 507.65 | W18: 553.8 | X18: 553.8 | Y18: 553.8
A19: 129.80 | B19: 140.40+129.70+129.80+129.90 | C19: Einnahmen aus Veranst.Inklusion+Gleichst. | D19: 14500 | E19: 0 | F19: 14500 | G19: 10800 | H19: 0 | I19: =9176.25+70.31 -> 9246.56 | J19: 5000 | K19: 0 | N19: 0 | O19: 0 | P19: 0 | Q19: 0 | R19: 0 | S19: 0 | T19: 0 | U19: 0 | V19: 0 | W19: 0 | X19: 0 | Y19: 0
A20: 129.90 | B20: 140.20+129.70+129.80+.129.90 | C20: Einnahmen aus Veranst. Hopo | D20: 10000 | E20: 0 | F20: 10000 | G20: 6300 | H20: 0 | I20: =0+154.69 -> 154.69 | J20: 0 | K20: 0 | N20: 0 | O20: 0 | P20: 0 | Q20: 0 | R20: 0 | S20: 0 | T20: 0 | U20: 0 | V20: 0 | W20: 0 | X20: 0 | Y20: 0
A21: 162.00 | B21: 119.30 | C21: Zinsen privatrechtll.Unternehmen | D21: 0 | E21: 0 | F21: 0 | G21: 0 | H21: 0 | I21: 500 | J21: 0 | K21: 0 | N21: 0 | O21: 0 | P21: 0 | Q21: 0 | R21: 0 | S21: 0 | T21: 0 | U21: 0 | V21: 0 | W21: 0 | X21: 0 | Y21: 0
A22: 182.00 | B22: 182.10+182.20 | C22: Darlehensrückflüsse Studierende | D22: 7000 | E22: 6229.55 | F22: 7000 | G22: 3600 | H22: 5262 | I22: 5000 | J22: 3000 | K22: 2715.99 | N22: 184 | O22: 311 | P22: 458 | Q22: 585 | R22: 1957 | S22: 2284 | T22: 2796 | U22: 2796 | V22: 3093 | W22: 3370 | X22: 5584 | Y22: 5784
C23: SUMME PLAN 1 | D23: =SUM(D7:D22) -> 125000 | E23: =SUM(E7:E22) -> 101836.55 | F23: =SUM(F7:F22) -> 125000 | G23: =SUM(G7:G22) -> 179479.5 | H23: =SUM(H7:H22) -> 81782.37 | I23: =SUM(I7:I22) -> 139786.25 | J23: =SUM(J7:J22) -> 95150 | K23: =SUM(K7:K22) -> 87680.53 | N23: =SUM(N7:N22) -> 3127.7 | O23: =SUM(O7:O22) -> 6601.7 | P23: =SUM(P7:P22) -> 9612.3 | Q23: =SUM(Q7:Q22) -> 29508.1 | R23: =SUM(R7:R22) -> 47068 | S23: =SUM(S7:S22) -> 50011.95 | T23: =SUM(T7:T22) -> 53268.05 | U23: =SUM(U7:U22) -> 53323.05 | ... Y23: =SUM(Y7:Y22) -> 92813.77
A24: 341.00 | B24: 111.10+111.20 | C24: Studierendenschaftsbeiträge | D24: 560000 | E24: 578722.64 | F24: 560000 | G24: 1044000 | H24: 1066613.7 | I24: 752600 | J24: =523021.18+530000 -> 1053021.2 | K24: 1047303.2 | N24: 155566.46 | O24: 460808.55 | P24: 511610.66 | Q24: 511882.66 | R24: 520532.16 | S24: 525362.2 | T24: 527548.85 | U24: 527548.85 | V24: 528880.85 | W24: 529743.85 | X24: 529743.85 | Y24: 530792.35
A25: 352.00 | B25: 352.10 | C25: Entnahme aus der Allg. Rücklage | D25: 0 | E25: 0 | F25: 0 | G25: 60000 | H25: 0 | I25: 0 | J25: 0 | K25: 0 | N25: 0 | O25: 0 | P25: 0 | Q25: 0 | R25: 0 | S25: 0 | T25: 0 | U25: 0 | V25: 0 | W25: 0 | X25: 0 | Y25: 0
A26: 353.00 | B26: 352.20 | C26: Entnahme aus der Sonderrücklage | D26: 195000 | E26: 195000 | F26: 195000 | G26: 0 | H26: 0 | I26: 0 | J26: 0 | K26: 0 | N26: 0 | O26: 0 | P26: 0 | Q26: 0 | R26: 0 | S26: 0 | T26: 0 | U26: 0 | V26: 0 | W26: 0 | X26: 0 | Y26: 0
A27: 360.00 | B27: 360.10 | C27: Überschuss des Vorjahres | D27: 600000 | E27: 625360.34 | F27: 600000 | G27: 285497.78 | H27: 285497.78 | I27: 689841.07 | J27: 689481.07 | K27: 689481.07 | N27: 807785.14 | O27: 807785.14 | P27: 807785.14 | Q27: 807785.14 | R27: 807785.14 | S27: 807785.14 | T27: 807785.14 | U27: 807785.14 | V27: 807785.14 | W27: 807785.14 | X27: 807785.14 | Y27: 807785.14
C28: SUMME PLAN 3 | D28: =SUM(D24:D27) -> 1355000 | E28: =SUM(E24:E27) -> 1399083 | F28: =SUM(F24:F27) -> 1355000 | G28: =SUM(G24:G27) -> 1389497.8 | H28: =SUM(H24:H27) -> 1352111.5 | I28: =SUM(I24:I27) -> 1442441.1 | J28: =SUM(J24:J27) -> 1742502.2 | K28: =SUM(K24:K27) -> 1736784.3 | N28: =SUM(N24:N27) -> 963351.6 | O28: =SUM(O24:O27) -> 1268593.7 | P28: =SUM(P24:P27) -> 1319395.8 | Q28: =SUM(Q24:Q27) -> 1319667.8 | R28: =SUM(R24:R27) -> 1328317.3 | S28: =SUM(S24:S27) -> 1333147.3 | T28: =SUM(T24:T27) -> 1335334 | U28: =SUM(U24:U27) -> 1335334 | ... Y28: =SUM(Y24:Y27) -> 1338577.5
C30: SUMME Einnahmen | D30: =D23+D28 -> 1480000 | E30: =E23+E28 -> 1500919.5 | F30: =F23+F28 -> 1480000 | G30: =G23+G28 -> 1568977.3 | H30: =H23+H28 -> 1433893.8 | I30: =I23+I28 -> 1582227.3 | J30: =J23+J28 -> 1837652.2 | K30: =K23+K28 -> 1824464.8 | N30: =N23+N28 -> 966479.3 | O30: =O23+O28 -> 1275195.4 | P30: =P23+P28 -> 1329008.1 | Q30: =Q23+Q28 -> 1349175.9 | R30: =R23+R28 -> 1375385.3 | S30: =S23+S28 -> 1383159.3 | T30: =T23+T28 -> 1388602 | U30: =U23+U28 -> 1388657 | ... Y30: =Y23+Y28 -> 1431391.3
A31: Ausgaben
A32: 412.10 | B32: 425.30 | C32: Sachkostenpauschale AStA | D32: 25000 | E32: 26775 | F32: 25000 | G32: 27000 | H32: 26512.5 | I32: 27000 | J32: 27000 | K32: 25200 | N32: 2100 | O32: 4025 | P32: 5950 | Q32: 7875 | R32: 9800 | S32: 11725 | T32: 15225 | U32: 15225 | V32: 16975 | W32: 18725 | X32: 20475 | Y32: 22225
A33: 412.20 | B33: 412.10+412.20 | C33: Aufwandsentsch. SP | D33: 30000 | E33: 15180 | F33: 30000 | G33: 30526 | H33: 15155 | I33: 26800 | J33: 20000 | K33: 16365 | N33: 1015 | O33: 2265 | P33: 2905 | Q33: 3665 | R33: 5200 | S33: 6400 | T33: 8650 | U33: 8715 | V33: 10025 | W33: 11145 | X33: 11940 | Y33: 13885
A34: 412.30 | B34: 412.30 | C34: AE Mitglieder FernUni - Gremien | D34: 25000 | E34: 19640 | F34: 25000 | G34: 25000 | H34: 17870 | I34: 25000 | J34: 28000 | K34: 25880 | N34: 1350 | O34: 2230 | P34: 4460 | Q34: 7830 | R34: 8200 | S34: 10440 | T34: 13910 | U34: 13950 | V34: 16950 | W34: 18620 | X34: 19290 | Y34: 21080
A35: 412.40 | B35: 412.50+412.40 | C35: Aufwandsentsch. AStA-Gäste | D35: 500 | E35: 180 | F35: 500 | G35: 333 | H35: 272 | I35: 2566.66 | J35: 500 | K35: 775 | N35: 0 | O35: 0 | P35: 0 | Q35: 0 | R35: 0 | S35: 130 | T35: 545 | U35: 545 | V35: 625 | W35: 625 | X35: 625 | Y35: 665
A36: 412.50 | B36: 412.10+412.20 | C36: Aufwandsentsch. SP - Ausschüsse | D36: 13500 | E36: 10765 | F36: 13500 | G36: 26164 | H36: 8638 | I36: 25200 | J36: 17000 | K36: 6865 | N36: 515 | O36: 885 | P36: 2077 | Q36: 2557 | R36: 3187 | S36: 4007 | T36: 6120 | U36: 6145 | V36: 6730 | W36: 7470 | X36: 7950 | Y36: 8430
A37: 412.60 | B37: 412.50+412.40 | C37: Aufwandsentsch. AStA-PG | D37: 300 | E37: 0 | F37: 300 | G37: 333 | H37: 0 | I37: 2566.67 | J37: 500 | K37: 0 | N37: 0 | O37: 0 | P37: 0 | Q37: 0 | R37: 0 | S37: 0 | T37: 0 | U37: 0 | V37: 0 | W37: 0 | X37: 0 | Y37: 0
A38: 425.0 | C38: Personalkosten + AStA-Referate
A39: 425.1 | C39: Bezüge AStA-Referate
A40: 425.11 | B40: 425.10 | C40: Vergütung AStA-Referate | D40: 63000 | E40: 68187 | F40: 63000 | G40: 70000 | H40: 66757.8 | I40: 70000 | J40: 70000 | K40: 63244.8 | N40: 5270.4 | O40: 10107 | P40: 14943.6 | Q40: 19780.2 | R40: 24616.8 | S40: 29453.4 | T40: 38259 | U40: 38259 | V40: 42661.8 | W40: 47064.6 | X40: 51467.4 | Y40: 55870.2
A41: 425.12 | B41: 425.20 | C41: Beiträge Bundesknappschaft | D41: 19000 | E41: 21331.89 | F41: 19000 | G41: 18000 | H41: 19458.6 | I41: 18000 | J41: 18000 | K41: 18342.72 | N41: 1528.56 | O41: 2904.84 | P41: 4281.12 | Q41: 5656.41 | R41: 7031.7 | S41: 8406.99 | T41: 9630.09 | U41: 10853.19 | V41: 12076.29 | W41: 13299.39 | X41: 14522.49 | Y41: 15745.59
...

Sheet Kommentar
A2: Umbuchung auf AStA-Beautragungen
A4: Guddas | B4: RKA 09.2023 | C4: Korrektur/Übertrag neuer HHP | F4: 412.50 | G4: -30
F5: 686.61 | G5: -290
F6: 686.62 | G6: -625.55
C8: 412.40 AStA-Beauftragungen | F8: 412.40 | G8: 320
C9: 527.51 RK+Verpfl. AStA-Gäste | F9: 527.51 | G9: 625.55
A13: Guddas | B13: RKA 10.2023 | C13: Korrektur/Übertrag neuer HHP | F13: 686.61 | G13: -80
F14: 686.62 | G14: -236.3
F16: 527.51 | G16: 236.3
F17: 412.40 | G17: 80
A20: Guddas | B20: RKA 03.2024 | C20: Korrektur/Übertrag neuer HHP | F20: 412.50 | G20: -340
F23: 412.40 | G23: 340
A28: Guddas | B28: RKA 04.2024 | C28: Korrektur/Übertrag neuer HHP | F28: 412.50 | G28: -40
F31: 412.40 | G31: 40

Sheet Fachschaften_Gesamt
D1: HHJ | E1: HHJ | F1: HHJ | G1: HHJ | H1: HHJ | I1: HHJ | J1: HHJ | K1: HHJ | L1: HHJ | M1: HHJ | N1: HHJ | O1: HHJ | P1: HHJ | Q1: HHJ | R1: HHJ | S1: HHJ | T1: HHJ | U1: HHJ | V1: HHJ | W1: HHJ
D2: 2022 / 2023 | E2: 2022 / 2023 | F2: 2023 / 2024 | G2: 2023 / 2024 | H2: 2023 / 2024 | I2: 2024 / 2025 | J2: 2024/2025 | K2: 2025 / 2026 | L2: 2025/2026 | M2: 2025/2026 | N2: 2025/2026 | O2: 2025/2026 | P2: 2025/2026 | Q2: 2025/2026 | R2: 2025/2026 | S2: 2025/2026 | T2: 2025/2026 | U2: 2025/2026 | V2: 2025/2026 | W2: 2025/2026
A3: Neu | B3: Alt | D3: Soll | E3: IST | F3: Soll | G3: Soll | H3: Ist | I3: Soll | J3: IST | K3: Soll | L3: IST | M3: IST | N3: IST | O3: IST | P3: IST | Q3: IST | R3: IST | S3: IST | T3: IST | U3: IST | V3: IST | W3: IST
A4: Stand | C4: Titelbezeichnung | D4: SP-Beschluss 17.12.22 | E4: 45199 | F4: SP-Beschluss 11.11.2023 | G4: NACHTRAG SP-Beschluss 10.08.2024 | H4: 45565 | I4: SP 07.09.2024 | J4: 45930 | K4: Entwurf | L4: 45961 | M4: 45991 | N4: 46022 | O4: 46053 | P4: 46081 | Q4: 46112 | R4: 46142 | S4: 46173 | T4: 46203 | U4: 46234 | V4: 46265 | W4: 46295
C5: Einnahmen aus Veranstaltungen
A6: 210.10 | B6: 129.10 | C6: Teilnahmebeiträge Seminare FS WiWi | D6: =Haushalt!G38 -> 56381 | E6: =HHJ_2024_2025!H12 -> 37655.37 | F6: =Haushalt!I38 -> 46150 | G6: =Haushalt!#REF! -> #REF! | H6: 44449.34 | I6: 48000 | J6: 45959.97 | K6: =Haushalt!N38 -> 45000 | L6: =Haushalt!O$38 -> 449.1 | M6: =Haushalt!P$38 -> 449.1 | N6: =Haushalt!Q$38 -> 499 | O6: =Haushalt!R$38 -> 14071.89 | P6: =Haushalt!S$38 -> 21357.48 | Q6: =Haushalt!T$38 -> 21307.48 | R6: =Haushalt!U$38 -> 21307.48 | S6: =Haushalt!V$38 -> 21307.48 | T6: =Haushalt!W$38 -> 21307.48 | U6: =Haushalt!#REF! -> #REF! | V6: =Haushalt!#REF! -> #REF! | W6: =Haushalt!#REF! -> #REF!
A7: 220.10 | C7: Teilnahmebeiträge Veranstaltungen FS WiWi | D7: =Haushalt!G45 -> 0 | F7: =Haushalt!I45 -> 0 | G7: =Haushalt!#REF! -> #REF! | K7: =Haushalt!N45 -> 0
A8: 230.10 | C8: Sonstige (Werbung, Förderung, Bewirtung) WiWi | D8: =Haushalt!G52 -> 0 | F8: =Haushalt!I52 -> 0 | G8: =Haushalt!#REF! -> #REF! | K8: =Haushalt!N52 -> 0
A9: 210.20 | B9: 129.20 | C9: Teilnahmebeiträge Seminare FS KSW | D9: =Haushalt!G39 -> 10576 | E9: =HHJ_2024_2025!H13 -> 2690 | F9: =Haushalt!I39 -> 8510 | G9: =Haushalt!#REF! -> #REF! | H9: 2595 | I9: 4500 | J9: 1200 | K9: =Haushalt!N39 -> 0 | L9: =Haushalt!O$39 -> 0 | M9: =Haushalt!P$39 -> 0 | N9: =Haushalt!Q$39 -> 0 | O9: =Haushalt!R$39 -> 0 | P9: =Haushalt!S$39 -> 0 | Q9: =Haushalt!T$39 -> 0 | R9: =Haushalt!U$39 -> 0 | S9: =Haushalt!V$39 -> 0 | T9: =Haushalt!W$39 -> 0 | U9: =Haushalt!#REF! -> #REF! | V9: =Haushalt!#REF! -> #REF! | W9: =Haushalt!#REF! -> #REF!
A10: 220.20 | C10: Teilnahmebeiträge Veranstaltungen FS KSW | D10: =Haushalt!G46 -> 1200 | F10: =Haushalt!I46 -> 500 | G10: =Haushalt!#REF! -> #REF! | K10: =Haushalt!N46 -> 0
A11: 230.20 | C11: Sonstige (Werbung, Förderung, Bewirtung) KSW | D11: =Haushalt!G53 -> 0 | F11: =Haushalt!I53 -> 0 | G11: =Haushalt!#REF! -> #REF! | K11: =Haushalt!N53 -> 0
A12: 210.30 | B12: 129.60 | C12: Teilnahmebeiträge Seminare FS Psy | D12: =Haushalt!G40 -> 29222 | E12: =HHJ_2024_2025!H17 -> 0 | F12: =Haushalt!I40 -> 24000 | G12: =Haushalt!#REF! -> #REF! | H12: 0 | I12: 4500 | J12: 0 | K12: =Haushalt!N40 -> 0 | L12: =Haushalt!O$40 -> 0 | M12: =Haushalt!P$40 -> 0 | N12: =Haushalt!Q$40 -> 0 | O12: =Haushalt!R$40 -> 0 | P12: =Haushalt!S$40 -> 0 | Q12: =Haushalt!T$40 -> 0 | R12: =Haushalt!U$40 -> 0 | S12: =Haushalt!V$40 -> 0 | T12: =Haushalt!W$40 -> 0 | U12: =Haushalt!#REF! -> #REF! | V12: =Haushalt!#REF! -> #REF! | W12: =Haushalt!#REF! -> #REF!
A13: 220.30 | C13: Teilnahmebeiträge Veranstaltungen FS Psy | D13: =Haushalt!G47 -> 0 | F13: =Haushalt!I47 -> 0 | G13: =Haushalt!#REF! -> #REF! | K13: =Haushalt!N47 -> 0
A14: 230.30 | C14: Sonstige (Werbung, Förderung, Bewirtung) Psy | D14: =Haushalt!G54 -> 0 | F14: =Haushalt!I54 -> 0 | G14: =Haushalt!#REF! -> #REF! | K14: =Haushalt!N54 -> 0
A15: 210.40 | B15: 129.40 | C15: Teilnahmebeiträge Seminare FS ReWi | D15: =Haushalt!G41 -> 29578 | E15: =HHJ_2024_2025!H15 -> 23885 | F15: =Haushalt!I41 -> 23500 | G15: =Haushalt!#REF! -> #REF! | H15: 28160 | I15: 25000 | J15: 26800 | K15: =Haushalt!N41 -> 25000 | L15: =Haushalt!O$41 -> 1400 | M15: =Haushalt!P$41 -> 3700 | N15: =Haushalt!Q$41 -> 3700 | O15: =Haushalt!R$41 -> 7600 | P15: =Haushalt!S$41 -> 14150 | Q15: =Haushalt!T$41 -> 15000 | R15: =Haushalt!U$41 -> 15350 | S15: =Haushalt!V$41 -> 15800 | T15: =Haushalt!W$41 -> 15300 | U15: =Haushalt!#REF! -> #REF! | V15: =Haushalt!#REF! -> #REF! | W15: =Haushalt!#REF! -> #REF!
A16: 220.40 | C16: Teilnahmebeiträge Veranstaltungen FS ReWi | D16: =Haushalt!G48 -> 0 | F16: =Haushalt!I48 -> 0 | G16: =Haushalt!#REF! -> #REF! | K16: =Haushalt!N48 -> 0
A17: 230.40 | C17: Sonstige (Werbung, Förderung, Bewirtung) ReWi | D17: =Haushalt!G55 -> 0 | F17: =Haushalt!I55 -> 0 | G17: =Haushalt!#REF! -> #REF! | K17: =Haushalt!N55 -> 0
A18: 210.50 | B18: 129.30 | C18: Teilnahmebeiträge Seminare FS Meti | D18: =Haushalt!G42 -> 19572.5 | E18: =HHJ_2024_2025!H14 -> 7685 | F18: =Haushalt!I42 -> 15500 | G18: =Haushalt!#REF! -> #REF! | H18: 7230 | I18: 13000 | J18: 11385 | K18: =Haushalt!N42 -> 13000 | L18: =Haushalt!O$42 -> 2080 | M18: =Haushalt!P$42 -> 3015 | N18: =Haushalt!Q$42 -> 3180 | O18: =Haushalt!R$42 -> 3180 | P18: =Haushalt!S$42 -> 3180 | Q18: =Haushalt!T$42 -> 5880 | R18: =Haushalt!U$42 -> 6055 | S18: =Haushalt!V$42 -> 7550 | T18: =Haushalt!W$42 -> 7715 | U18: =Haushalt!#REF! -> #REF! | V18: =Haushalt!#REF! -> #REF! | W18: =Haushalt!#REF! -> #REF!
A19: 220.50 | C19: Teilnahmebeiträge Veranstaltungen FS Meti | D19: =Haushalt!G49 -> 0 | F19: =Haushalt!I49 -> 0 | G19: =Haushalt!#REF! -> #REF! | K19: =Haushalt!N49 -> 0
A20: 230.50 | C20: Sonstige (Werbung, Förderung, Bewirtung) Meti | D20: =Haushalt!G56 -> 0 | F20: =Haushalt!I56 -> 0 | G20: =Haushalt!#REF! -> #REF! | K20: =Haushalt!N56 -> 0
C21: Summe Einnahmen | D21: =SUM(D6:D20) -> 146529.5 | E21: =SUM(E6:E20) -> 71915.37 | F21: =SUM(F6:F20) -> 118160 | G21: =SUM(G6:G20) -> #REF! | H21: =SUM(H6:H20) -> 82434.34 | I21: =SUM(I6:I20) -> 95000 | J21: 85344.97 | K21: =SUM(K6:K20) -> 83000 | L21: =SUM(L6:L20) -> 3929.1 | M21: =SUM(M6:M20) -> 7164.1 | N21: =SUM(N6:N20) -> 7379 | O21: =SUM(O6:O20) -> 24851.89 | P21: =SUM(P6:P20) -> 38687.48 | Q21: =SUM(Q6:Q20) -> 42187.48 | R21: =SUM(R6:R20) -> 42712.48 | ... W21: =SUM(W6:W20) -> #REF!
A23: 686.3 | C23: Zuweisung an Fachschaft WiWi
A24: 413.10 | B24: 686.31 | C24: AE fest (800 EUR monatlich) | D24: =800*12 -> 9600 | E24: 9600 | F24: =800*12 -> 9600 | G24: =800*12 -> 9600 | H24: 9600 | I24: 9600 | J24: 9600 | K24: 9600 | L24: =AE_Zuweisung_Fachschaften!E$82 -> 0 | M24: =AE_Zuweisung_Fachschaften!E$82+AE_Zuweisung_Fachschaften!F$82 -> 0 | N24: =AE_Zuweisung_Fachschaften!E82+AE_Zuweisung_Fachschaften!F82+AE_Zuweisung_Fachschaften!G82 -> 0 | O24: =AE_Zuweisung_Fachschaften!E82+AE_Zuweisung_Fachschaften!F82+AE_Zuweisung_Fachschaften!G82+AE_Zuweisung_Fachschaften!H82 -> 0 | P24: =AE_Zuweisung_Fachschaften!E82+AE_Zuweisung_Fachschaften!F82+AE_Zuweisung_Fachschaften!G82+AE_Zuweisung_Fachschaften!H82+AE_Zuweisung_Fachschaften!I82 -> 0 | Q24: =AE_Zuweisung_Fachschaften!E82+AE_Zuweisung_Fachschaften!F82+AE_Zuweisung_Fachschaften!G82+AE_Zuweisung_Fachschaften!H82+AE_Zuweisung_Fachschaften!I82+AE_Zuweisung_Fachschaften!J82 -> 0 | R24: =AE_Zuweisung_Fachschaften!E82+AE_Zuweisung_Fachschaften!F82+AE_Zuweisung_Fachschaften!G82+AE_Zuweisung_Fachschaften!H82+AE_Zuweisung_Fachschaften!I82+AE_Zuweisung_Fachschaften!J82+AE_Zuweisung_Fachschaften!K82 -> 0 | S24: =AE_Zuweisung_Fachschaften!E82+AE_Zuweisung_Fachschaften!F82+AE_Zuweisung_Fachschaften!G82+AE_Zuweisung_Fachschaften!H82+AE_Zuweisung_Fachschaften!I82+AE_Zuweisung_Fachschaften!J82+AE_Zuweisung_Fachschaften!K82+AE_Zuweisung_Fachschaften!L82 -> 0 | T24: =AE_Zuweisung_Fachschaften!E82+AE_Zuweisung_Fachschaften!F82+AE_Zuweisung_Fachschaften!G82+AE_Zuweisung_Fachschaften!H82+AE_Zuweisung_Fachschaften!I82+AE_Zuweisung_Fachschaften!J82+AE_Zuweisung_Fachschaften!K82+AE_Zuweisung_Fachschaften!L82+AE_Zuweisung_Fachschaften!M82 -> 0 | U24: =AE_Zuweisung_Fachschaften!E82+AE_Zuweisung_Fachschaften!F82+AE_Zuweisung_Fachschaften!G82+AE_Zuweisung_Fachschaften!H82+AE_Zuweisung_Fachschaften!I82+AE_Zuweisung_Fachschaften!J82+AE_Zuweisung_Fachschaften!K82+AE_Zuweisung_Fachschaften!L82+AE_Zuweisung_Fachschaften!M82+AE_Zuweisung_Fachschaften!N82 -> 0 | V24: =AE_Zuweisung_Fachschaften!E82+AE_Zuweisung_Fachschaften!F82+AE_Zuweisung_Fachschaften!G82+AE_Zuweisung_Fachschaften!H82+AE_Zuweisung_Fachschaften!I82+AE_Zuweisung_Fachschaften!J82+AE_Zuweisung_Fachschaften!K82+AE_Zuweisung_Fachschaften!L82+AE_Zuweisung_Fachschaften!M82+AE_Zuweisung_Fachschaften!N82+AE_Zuweisung_Fachschaften!O82 -> 0 | W24: =AE_Zuweisung_Fachschaften!E82+AE_Zuweisung_Fachschaften!F82+AE_Zuweisung_Fachschaften!G82+AE_Zuweisung_Fachschaften!H82+AE_Zuweisung_Fachschaften!I82+AE_Zuweisung_Fachschaften!J82+AE_Zuweisung_Fachschaften!K82+AE_Zuweisung_Fachschaften!L82+AE_Zuweisung_Fachschaften!M82+AE_Zuweisung_Fachschaften!N82+AE_Zuweisung_Fachschaften!O82+AE_Zuweisung_Fachschaften!P82 -> 0
A25: 413.21 | B25: 686.31 | C25: AE variabel | D25: =Haushalt!G89 -> 8600 | E25: =HHJ_2024_2025!H199-E24 -> 3695 | F25: =Haushalt!I89 -> 8600 | G25: =Haushalt!#REF! -> #REF! | H25: 6315.5 | I25: 9500 | J25: 4020 | K25: 9500 | L25: =Haushalt!O89 -> 80 | M25: =Haushalt!P89 -> 835 | N25: =Haushalt!Q89 -> 1280 | O25: =Haushalt!R89 -> 1550 | P25: =Haushalt!S89 -> 1550 | Q25: =Haushalt!T89 -> 1550 | R25: =Haushalt!U89 -> 1880 | S25: =Haushalt!V89 -> 2280 | T25: =Haushalt!W89 -> 2600
A26: 527.41 | B26: 686.32 | C26: FK und Verpfl.pauschalen | D26: =Haushalt!G137 -> 15000 | E26: =HHJ_2024_2025!H200 -> 4457.1 | F26: =Haushalt!I137 -> 15000 | G26: =Haushalt!#REF! -> #REF! | H26: 9623.41 | I26: 14000 | J26: 6469.75 | K26: 14000 | L26: =Haushalt!O$137 -> 376 | M26: =Haushalt!P$137 -> 1610.31 | N26: =Haushalt!Q$137 -> 2170.39 | O26: =Haushalt!R$137 -> 2651.08 | P26: =Haushalt!S$137 -> 2651.08 | Q26: =Haushalt!T$137 -> 2651.08 | R26: =Haushalt!U$137 -> 3576.83 | S26: =Haushalt!V$137 -> 4964.26 | T26: =Haushalt!W$137 -> 5329.66 | U26: =Haushalt!#REF! -> #REF! | V26: =Haushalt!#REF! -> #REF! | W26: =Haushalt!#REF! -> #REF!
A27: 529.41 | B27: 686.34 | C27: Raum-u. Unterkunftskosten | D27: =Haushalt!G149 -> 4200 | E27: =HHJ_2024_2025!H202 -> 1647.92 | F27: =Haushalt!I149 -> 3000 | G27: =Haushalt!#REF! -> #REF! | H27: 2757.48 | I27: 6000 | J27: 4907.83 | K27: 6000 | L27: =Haushalt!O$149 -> 134.32 | M27: =Haushalt!P$149 -> 860.27 | N27: =Haushalt!Q$149 -> 994.59 | O27: =Haushalt!R$149 -> 1356.7 | P27: =Haushalt!S$149 -> 1491.02 | Q27: =Haushalt!T$149 -> 1625.34 | R27: =Haushalt!U$149 -> 2165.46 | S27: =Haushalt!V$149 -> 2299.78 | T27: =Haushalt!W$149 -> 2434.1 | U27: =Haushalt!#REF! -> #REF! | V27: =Haushalt!#REF! -> #REF! | W27: =Haushalt!#REF! -> #REF!
A28: 531.41 | B28: 686.35 | C28: Bewirtung und Repräsentation intern | D28: =Haushalt!G161 -> 1000 | E28: =HHJ_2024_2025!H203 -> 148.96 | F28: =Haushalt!I161 -> 2000 | G28: =Haushalt!#REF! -> #REF! | H28: 4.59 | I28: 500 | J28: 1261.39 | K28: 500 | L28: =Haushalt!O$161 -> 0 | M28: =Haushalt!P$161 -> 0 | N28: =Haushalt!Q$161 -> 0 | O28: =Haushalt!R$161 -> 0 | P28: =Haushalt!S$161 -> 0 | Q28: =Haushalt!T$161 -> 0 | R28: =Haushalt!U$161 -> 0 | S28: =Haushalt!V$161 -> 0 | T28: =Haushalt!W$161 -> 0 | U28: =Haushalt!#REF! -> #REF! | V28: =Haushalt!#REF! -> #REF! | W28: =Haushalt!#REF! -> #REF!
A29: 551.11 | B29: 686.33 | C29: Honorare Fachseminare | D29: =Haushalt!G185 -> 45600 | E29: =HHJ_2024_2025!H201 -> 32556.25 | F29: =Haushalt!I185 -> 40000 | G29: =Haushalt!#REF! -> #REF! | H29: 25505.38 | I29: 43750 | J29: 38662.5 | K29: 43750 | L29: =Haushalt!O$185 -> 0 | M29: =Haushalt!P$185 -> 0 | N29: =Haushalt!Q$185 -> 0 | O29: =Haushalt!R$185 -> 0 | P29: =Haushalt!S$185 -> 5362.5 | Q29: =Haushalt!T$185 -> 12807.5 | R29: =Haushalt!U$185 -> 16547.5 | S29: =Haushalt!V$185 -> 16547.5 | T29: =Haushalt!W$185 -> 16547.5 | U29: =Haushalt!#REF! -> #REF! | V29: =Haushalt!#REF! -> #REF! | W29: =Haushalt!#REF! -> #REF!
A30: 551.21 | B30: 686.33 | C30: Andere Honorare | D30: =Haushalt!G191 -> 2000 | F30: =Haushalt!I191 -> 1000 | G30: =Haushalt!#REF! -> #REF! | H30: 5465.44 | I30: 1000 | J30: 0 | K30: 1000 | L30: =Haushalt!O$191 -> 0 | M30: =Haushalt!P$191 -> 0 | N30: =Haushalt!Q$191 -> 0 | O30: =Haushalt!R$191 -> 0 | P30: =Haushalt!S$191 -> 0 | Q30: =Haushalt!T$191 -> 0 | R30: =Haushalt!U$191 -> 0 | S30: =Haushalt!V$191 -> 0 | T30: =Haushalt!W$191 -> 0 | U30: =Haushalt!#REF! -> #REF! | V30: =Haushalt!#REF! -> #REF! | W30: =Haushalt!#REF! -> #REF!
A31: 551.31 | B31: 686.33 | C31: Ext. Reisekosten | D31: =Haushalt!G197 -> 1100 | F31: =Haushalt!I197 -> 500 | G31: =Haushalt!#REF! -> #REF! | H31: 5465.44 | I31: 500 | J31: 0 | K31: 500 | L31: =Haushalt!O$197 -> 0 | M31: =Haushalt!P$197 -> 0 | N31: =Haushalt!Q$197 -> 0 | O31: =Haushalt!R$197 -> 0 | P31: =Haushalt!S$197 -> 0 | Q31: =Haushalt!T$197 -> 0 | R31: =Haushalt!U$197 -> 0 | S31: =Haushalt!V$197 -> 0 | T31: =Haushalt!W$197 -> 0 | U31: =Haushalt!#REF! -> #REF! | V31: =Haushalt!#REF! -> #REF! | W31: =Haushalt!#REF! -> #REF!
A32: 551.41 | B32: 686.37 | C32: Bewirtung und Repräsentation extern | D32: =Haushalt!G203 -> 1500 | E32: =HHJ_2024_2025!H205 -> 0 | F32: =Haushalt!I203 -> 500 | G32: =Haushalt!#REF! -> #REF! | H32: 41.13 | I32: 1500 | J32: 642.6 | K32: 1500 | L32: =Haushalt!O$203 -> 0 | M32: =Haushalt!P$203 -> 0 | N32: =Haushalt!Q$203 -> 0 | O32: =Haushalt!R$203 -> 0 | P32: =Haushalt!S$203 -> 0 | Q32: =Haushalt!T$203 -> 0 | R32: =Haushalt!U$203 -> 0 | S32: =Haushalt!V$203 -> 0 | T32: =Haushalt!W$203 -> 0 | U32: =Haushalt!#REF! -> #REF! | V32: =Haushalt!#REF! -> #REF! | W32: =Haushalt!#REF! -> #REF!
A33: 551.51 | B33: 686.36 | C33: Raum-u. Unterkunftskosten Sem.+Veranst. | D33: =Haushalt!G209 -> 3000 | E33: =HHJ_2024_2025!H204 -> 0 | F33: =Haushalt!I209 -> 500 | G33: =Haushalt!#REF! -> #REF! | H33: 0 | I33: 500 | J33: 0 | K33: 500 | L33: =Haushalt!O$209 -> 0 | M33: =Haushalt!P$209 -> 0 | N33: =Haushalt!Q$209 -> 0 | O33: =Haushalt!R$209 -> 0 | P33: =Haushalt!S$209 -> 0 | Q33: =Haushalt!T$209 -> 0 | R33: =Haushalt!U$209 -> 0 | S33: =Haushalt!V$209 -> 0 | T33: =Haushalt!W$209 -> 0 | U33: =Haushalt!#REF! -> #REF! | V33: =Haushalt!#REF! -> #REF! | W33: =Haushalt!#REF! -> #REF!
A34: 551.61 | B34: 686.38 | C34: Verwaltungs- u. Druckkosten Seminare | D34: =Haushalt!G215 -> 4000 | E34: =HHJ_2024_2025!H206 -> 2413.98 | F34: =Haushalt!I215 -> 3500 | G34: =Haushalt!#REF! -> #REF! | H34: 240.67 | I34: 5000 | J34: 228 | K34: 5000 | L34: =Haushalt!O$215 -> 0 | M34: =Haushalt!P$215 -> 0 | N34: =Haushalt!Q$215 -> 0 | O34: =Haushalt!R$215 -> 0 | P34: =Haushalt!S$215 -> 0 | Q34: =Haushalt!T$215 -> 0 | R34: =Haushalt!U$215 -> 0 | S34: =Haushalt!V$215 -> 0 | T34: =Haushalt!W$215 -> 0 | U34: =Haushalt!#REF! -> #REF! | V34: =Haushalt!#REF! -> #REF! | W34: =Haushalt!#REF! -> #REF!
A35: 551.71 | B35: 686.38 | C35: Sonstige Kosten (Lizenzen, Allg.Geschäftsbetrieb) | D35: =Haushalt!G221 -> 3400 | F35: =Haushalt!I221 -> 2500 | G35: =Haushalt!#REF! -> #REF! | H35: 2166.06 | I35: 2000 | J35: 1652.53 | K35: 3150 | L35: =Haushalt!O$221 -> 99 | M35: =Haushalt!P$221 -> 368 | N35: =Haushalt!Q$221 -> 467 | O35: =Haushalt!R$221 -> 566 | P35: =Haushalt!S$221 -> 1252.87 | Q35: =Haushalt!T$221 -> 1597.2 | R35: =Haushalt!U$221 -> 1781.2 | S35: =Haushalt!V$221 -> 1880.2 | T35: =Haushalt!W$221 -> 1979.2 | U35: =Haushalt!#REF! -> #REF! | V35: =Haushalt!#REF! -> #REF! | W35: =Haushalt!#REF! -> #REF!
A36: 560.70 | B36: 686.39 | C36: Rechtsangelegenheiten | D36: =Haushalt!G235/5 -> 584 | E36: =HHJ_2024_2025!H207 -> 0 | F36: =Haushalt!I235/5 -> 490 | G36: =Haushalt!#REF!/5 -> #REF! | H36: 0 | I36: =1000/5 -> 200 | J36: 0 | K36: 0 | L36: =Haushalt!O$235/5 -> 0 | M36: =Haushalt!P$235/5 -> 0 | N36: =Haushalt!Q$235/5 -> 0 | O36: =Haushalt!R$235/5 -> 0 | P36: =Haushalt!S$235/5 -> 0 | Q36: =Haushalt!T$235/5 -> 0 | R36: =Haushalt!U$235/5 -> 0 | S36: =Haushalt!V$235/5 -> 0 | T36: =Haushalt!W$235/5 -> 0 | U36: =Haushalt!#REF!/5 -> #REF! | V36: =Haushalt!#REF!/5 -> #REF! | W36: =Haushalt!#REF!/5 -> #REF!
C37: SUMME Ausgaben | D37: =SUM(D24:D36) -> 99584 | E37: =SUM(E24:E36) -> 54519.21 | F37: =SUM(F24:F36) -> 87190 | G37: =SUM(G24:G36) -> #REF! | H37: =SUM(H24:H36) -> 67185.1 | I37: =SUM(I24:I36) -> 94050 | J37: 67444.6 | K37: =SUM(K24:K36) -> 95000 | L37: =L24+L25+L26+L27+L28+L29+L32+L33+L34+L35+L36 -> 689.32 | M37: =M24+M25+M26+M27+M28+M29+M32+M33+M34+M35+M36 -> 3673.58 | N37: =N24+N25+N26+N27+N28+N29+N32+N33+N34+N35+N36 -> 4911.98 | O37: =O24+O25+O26+O27+O28+O29+O32+O33+O34+O35+O36 -> 6123.78 | P37: =P24+P25+P26+P27+P28+P29+P32+P33+P34+P35+P36 -> 12307.47 | Q37: =Q24+Q25+Q26+Q27+Q28+Q29+Q32+Q33+Q34+Q35+Q36 -> 20231.12 | R37: =R24+R25+R26+R27+R28+R29+R32+R33+R34+R35+R36 -> 25950.99 | S37: =S24+S25+S26+S27+S28+S29+S32+S33+S34+S35+S36 -> 27971.74 | ... W37: =W24+W25+W26+W27+W28+W29+W32+W33+W34+W35+W36 -> #REF!
C38: Summe Einnahmen - Ausgaben WiWi | D38: =SUM(D6+D7+D8)-D37 -> -43203 | E38: =E6-E37 -> -16863.84 | F38: =SUM(F6+F7+F8)-F37 -> -41040 | G38: =SUM(G6+G7+G8)-G37 -> #REF! | H38: =SUM(H6+H7+H8)-H37 -> -22735.76 | I38: =SUM(I6+I7+I8)-I37 -> -46050 | J38: -21484.63 | K38: =SUM(K6+K7+K8)-K37 -> -50000 | L38: =L6-L37 -> -240.22 | M38: =M6-M37 -> -3224.48 | N38: =N6-N37 -> -4412.98 | O38: =O6-O37 -> 7948.11 | P38: =P6-P37 -> 9050.01 | Q38: =Q6-Q37 -> 1076.36 | R38: =R6-R37 -> -4643.51 | S38: =S6-S37 -> -6664.26 | ... W38: =W6-W37 -> #REF!
A42: 686.4 | C42: Zuweisung an Fachschaft KSW
A43: 413.10 | B43: 686.41 | C43: AE fest (800 EUR monatlich) | D43: =800*12 -> 9600 | E43: 8530 | F43: =800*12 -> 9600 | G43: =800*12 -> 9600 | H43: 9575 | I43: 9600 | J43: 9300 | K43: 9600 | L43: =AE_Zuweisung_Fachschaften!E$18 -> 0 | M43: =AE_Zuweisung_Fachschaften!E18+AE_Zuweisung_Fachschaften!F18 -> 0 | N43: =AE_Zuweisung_Fachschaften!E18+AE_Zuweisung_Fachschaften!F18+AE_Zuweisung_Fachschaften!G18 -> 0 | O43: =AE_Zuweisung_Fachschaften!E18+AE_Zuweisung_Fachschaften!F18+AE_Zuweisung_Fachschaften!G18+AE_Zuweisung_Fachschaften!H18 -> 0 | P43: =AE_Zuweisung_Fachschaften!E18+AE_Zuweisung_Fachschaften!F18+AE_Zuweisung_Fachschaften!G18+AE_Zuweisung_Fachschaften!H18+AE_Zuweisung_Fachschaften!I18 -> 0 | Q43: =AE_Zuweisung_Fachschaften!E18+AE_Zuweisung_Fachschaften!F18+AE_Zuweisung_Fachschaften!G18+AE_Zuweisung_Fachschaften!H18+AE_Zuweisung_Fachschaften!I18+AE_Zuweisung_Fachschaften!J18 -> 0 | R43: =AE_Zuweisung_Fachschaften!E18+AE_Zuweisung_Fachschaften!F18+AE_Zuweisung_Fachschaften!G18+AE_Zuweisung_Fachschaften!H18+AE_Zuweisung_Fachschaften!I18+AE_Zuweisung_Fachschaften!J18+AE_Zuweisung_Fachschaften!K18 -> 0 | S43: =AE_Zuweisung_Fachschaften!E18+AE_Zuweisung_Fachschaften!F18+AE_Zuweisung_Fachschaften!G18+AE_Zuweisung_Fachschaften!H18+AE_Zuweisung_Fachschaften!I18+AE_Zuweisung_Fachschaften!J18+AE_Zuweisung_Fachschaften!K18+AE_Zuweisung_Fachschaften!L18 -> 0 | T43: =AE_Zuweisung_Fachschaften!E18+AE_Zuweisung_Fachschaften!F18+AE_Zuweisung_Fachschaften!G18+AE_Zuweisung_Fachschaften!H18+AE_Zuweisung_Fachschaften!I18+AE_Zuweisung_Fachschaften!J18+AE_Zuweisung_Fachschaften!K18+AE_Zuweisung_Fachschaften!L18+AE_Zuweisung_Fachschaften!M18 -> 0 | U43: =AE_Zuweisung_Fachschaften!E18+AE_Zuweisung_Fachschaften!F18+AE_Zuweisung_Fachschaften!G18+AE_Zuweisung_Fachschaften!H18+AE_Zuweisung_Fachschaften!I18+AE_Zuweisung_Fachschaften!J18+AE_Zuweisung_Fachschaften!K18+AE_Zuweisung_Fachschaften!L18+AE_Zuweisung_Fachschaften!M18+AE_Zuweisung_Fachschaften!N18 -> 0 | V43: =AE_Zuweisung_Fachschaften!E18+AE_Zuweisung_Fachschaften!F18+AE_Zuweisung_Fachschaften!G18+AE_Zuweisung_Fachschaften!H18+AE_Zuweisung_Fachschaften!I18+AE_Zuweisung_Fachschaften!J18+AE_Zuweisung_Fachschaften!K18+AE_Zuweisung_Fachschaften!L18+AE_Zuweisung_Fachschaften!M18+AE_Zuweisung_Fachschaften!N18+AE_Zuweisung_Fachschaften!O18 -> 0 | W43: =AE_Zuweisung_Fachschaften!E18+AE_Zuweisung_Fachschaften!F18+AE_Zuweisung_Fachschaften!G18+AE_Zuweisung_Fachschaften!H18+AE_Zuweisung_Fachschaften!I18+AE_Zuweisung_Fachschaften!J18+AE_Zuweisung_Fachschaften!K18+AE_Zuweisung_Fachschaften!L18+AE_Zuweisung_Fachschaften!M18+AE_Zuweisung_Fachschaften!N18+AE_Zuweisung_Fachschaften!O18+AE_Zuweisung_Fachschaften!P18 -> 0
A44: 413.22 | B44: 686.41 | C44: AE variabel | D44: =Haushalt!G90 -> 5270 | E44: =HHJ_2024_2025!H209-E43 -> 540 | F44: =Haushalt!I90 -> 5270 | G44: =Haushalt!#REF! -> #REF! | H44: 180 | I44: 2000 | J44: 380 | K44: 2000 | L44: =Haushalt!O90 -> 20 | M44: =Haushalt!P90 -> 20 | N44: =Haushalt!Q90 -> 75 | O44: =Haushalt!R90 -> 75 | P44: =Haushalt!S90 -> 75 | Q44: =Haushalt!T90 -> 135 | R44: =Haushalt!U90 -> 135 | S44: =Haushalt!V90 -> 135 | T44: =Haushalt!W90 -> 175
...

Sheet WiWi
A1: HHJ 2024/2025 | D1: HHJ | E1: HHJ | F1: HHJ | G1: HHJ | H1: HHJ | I1: HHJ | J1: HHJ | K1: HHJ | L1: HHJ | M1: HHJ | N1: HHJ | O1: HHJ | P1: HHJ | Q1: HHJ | R1: HHJ | S1: HHJ | T1: HHJ | U1: HHJ | V1: HHJ | W1: HHJ
D2: 2022 / 2023 | E2: 2022 / 2023 | F2: 2023 / 2024 | G2: 2023 / 2024 | H2: 2023 / 2024 | I2: 2024 / 2025 | J2: 2024/2025 | K2: 2025 / 2026 | L2: 2025/2026 | M2: 2025/2026 | N2: 2025/2026 | O2: 2025/2026 | P2: 2025/2026 | Q2: 2025/2026 | R2: 2025/2026 | S2: 2025/2026 | T2: 2025/2026 | U2: 2025/2026 | V2: 2025/2026 | W2: 2025/2026
A3: Neu | B3: Alt | D3: Soll | E3: IST | F3: Soll | G3: Soll | H3: Ist | I3: Soll | J3: IST | K3: Soll | L3: IST | M3: IST | N3: IST | O3: IST | P3: IST | Q3: IST | R3: IST | S3: IST | T3: IST | U3: IST | V3: IST | W3: IST
A4: Stand | C4: Titelbezeichnung | D4: SP-Beschluss 17.12.22 | E4: 45199 | F4: SP-Beschluss 11.11.2023 | G4: NACHTRAG SP-Beschluss 10.08.2024 | H4: 45565 | I4: SP 07.09.2024 | J4: 45930 | K4: Entwurf | L4: 45961 | M4: 45991 | N4: 46022 | O4: 46053 | P4: 46081 | Q4: 46112 | R4: 46142 | S4: 46173 | T4: 46203 | U4: 46234 | V4: 46265 | W4: 46295
C5: Einnahmen aus Veranstaltungen
A6: 210.10 | B6: 129.10 | C6: Teilnahmebeiträge Seminare FS WiWi | D6: =Haushalt!G38 -> 56381 | E6: =Fachschaften_Gesamt!E6 -> 37655.37 | F6: =Haushalt!I38 -> 46150 | G6: =Haushalt!#REF! -> #REF! | H6: 44449.34 | I6: 48000 | J6: 45959.97 | K6: =Fachschaften_Gesamt!K6 -> 45000 | L6: =Fachschaften_Gesamt!L6 -> 449.1 | M6: =Fachschaften_Gesamt!M6 -> 449.1 | N6: =Fachschaften_Gesamt!N6 -> 499 | O6: =Fachschaften_Gesamt!O6 -> 14071.89 | P6: =Fachschaften_Gesamt!P6 -> 21357.48 | Q6: =Fachschaften_Gesamt!Q6 -> 21307.48 | R6: =Fachschaften_Gesamt!R6 -> 21307.48 | ... W6: =Fachschaften_Gesamt!W6 -> #REF!
A7: 220.10 | C7: Teilnahmebeiträge Veranstaltungen FS WiWi | D7: =Haushalt!G45 -> 0 | F7: =Haushalt!I45 -> 0 | G7: =Haushalt!#REF! -> #REF! | H7: 0 | I7: 0 | J7: 0 | K7: =Fachschaften_Gesamt!K7 -> 0 | L7: =Fachschaften_Gesamt!L7 -> 0 | M7: =Fachschaften_Gesamt!M7 -> 0 | N7: =Fachschaften_Gesamt!N7 -> 0 | O7: =Fachschaften_Gesamt!O7 -> 0 | P7: =Fachschaften_Gesamt!P7 -> 0 | Q7: =Fachschaften_Gesamt!Q7 -> 0 | R7: =Fachschaften_Gesamt!R7 -> 0 | ... W7: =Fachschaften_Gesamt!W7 -> 0
A8: 230.10 | C8: Sonstige (Werbung, Förderung, Bewirtung) WiWi | D8: =Haushalt!G52 -> 0 | F8: =Haushalt!I52 -> 0 | G8: =Haushalt!#REF! -> #REF! | H8: 0 | I8: 0 | J8: 0 | K8: =Fachschaften_Gesamt!K8 -> 0 | L8: =Fachschaften_Gesamt!L8 -> 0 | M8: =Fachschaften_Gesamt!M8 -> 0 | N8: =Fachschaften_Gesamt!N8 -> 0 | O8: =Fachschaften_Gesamt!O8 -> 0 | P8: =Fachschaften_Gesamt!P8 -> 0 | Q8: =Fachschaften_Gesamt!Q8 -> 0 | R8: =Fachschaften_Gesamt!R8 -> 0 | ... W8: =Fachschaften_Gesamt!W8 -> 0
C9: Summe Einnahmen | D9: =SUM(D6:D8) -> 56381 | E9: =SUM(E6:E8) -> 37655.37 | F9: =SUM(F6:F8) -> 46150 | G9: =SUM(G6:G8) -> #REF! | H9: =SUM(H6:H8) -> 44449.34 | I9: =SUM(I6:I8) -> 48000 | J9: 45959.97 | K9: =SUM(K6:K8) -> 45000 | L9: =SUM(L6:L8) -> 449.1 | M9: =SUM(M6:M8) -> 449.1 | N9: =SUM(N6:N8) -> 499 | O9: =SUM(O6:O8) -> 14071.89 | P9: =SUM(P6:P8) -> 21357.48 | Q9: =SUM(Q6:Q8) -> 21307.48 | R9: =SUM(R6:R8) -> 21307.48 | ... W9: =SUM(W6:W8) -> #REF!
A11: 686.3 | C11: Zuweisung an Fachschaft WiWi
A12: 413.10 | B12: 686.31 | C12: AE fest (800 EUR monatlich) | D12: =800*12 -> 9600 | E12: =Fachschaften_Gesamt!E24 -> 9600 | F12: =800*12 -> 9600 | G12: =800*12 -> 9600 | H12: 9600 | I12: 9600 | J12: 9600 | K12: =Fachschaften_Gesamt!K24 -> 9600 | L12: =Fachschaften_Gesamt!L24 -> 0 | M12: =Fachschaften_Gesamt!M24 -> 0 | N12: =Fachschaften_Gesamt!N24 -> 0 | O12: =Fachschaften_Gesamt!O24 -> 0 | P12: =Fachschaften_Gesamt!P24 -> 0 | Q12: =Fachschaften_Gesamt!Q24 -> 0 | R12: =Fachschaften_Gesamt!R24 -> 0 | ... W12: =Fachschaften_Gesamt!W24 -> 0
A13: 413.21 | B13: 686.31 | C13: AE variabel | D13: =Haushalt!G89 -> 8600 | E13: =Fachschaften_Gesamt!E25 -> 3695 | F13: =Haushalt!I89 -> 8600 | G13: =Haushalt!#REF! -> #REF! | H13: 6315.5 | I13: 9500 | J13: 4100 | K13: =Fachschaften_Gesamt!K25 -> 9500 | L13: =Fachschaften_Gesamt!L25 -> 80 | M13: =Fachschaften_Gesamt!M25 -> 835 | N13: =Fachschaften_Gesamt!N25 -> 1280 | O13: =Fachschaften_Gesamt!O25 -> 1550 | P13: =Fachschaften_Gesamt!P25 -> 1550 | Q13: =Fachschaften_Gesamt!Q25 -> 1550 | R13: =Fachschaften_Gesamt!R25 -> 1880 | ... T13: =Fachschaften_Gesamt!T25 -> 2600
A14: 527.41 | B14: 686.32 | C14: FK und Verpfl.pauschalen | D14: =Haushalt!G137 -> 15000 | E14: =Fachschaften_Gesamt!E26 -> 4457.1 | F14: =Haushalt!I137 -> 15000 | G14: =Haushalt!#REF! -> #REF! | H14: 9623.41 | I14: 14000 | J14: 6469.75 | K14: =Fachschaften_Gesamt!K26 -> 14000 | L14: =Fachschaften_Gesamt!L26 -> 376 | M14: =Fachschaften_Gesamt!M26 -> 1610.31 | N14: =Fachschaften_Gesamt!N26 -> 2170.39 | O14: =Fachschaften_Gesamt!O26 -> 2651.08 | P14: =Fachschaften_Gesamt!P26 -> 2651.08 | Q14: =Fachschaften_Gesamt!Q26 -> 2651.08 | R14: =Fachschaften_Gesamt!R26 -> 3576.83 | ... W14: =Fachschaften_Gesamt!W26 -> #REF!
A15: 529.41 | B15: 686.34 | C15: Raum-u. Unterkunftskosten | D15: =Haushalt!G149 -> 4200 | E15: =Fachschaften_Gesamt!E27 -> 1647.92 | F15: =Haushalt!I149 -> 3000 | G15: =Haushalt!#REF! -> #REF! | H15: 2757.48 | I15: 6000 | J15: 4907.83 | K15: =Fachschaften_Gesamt!K27 -> 6000 | L15: =Fachschaften_Gesamt!L27 -> 134.32 | M15: =Fachschaften_Gesamt!M27 -> 860.27 | N15: =Fachschaften_Gesamt!N27 -> 994.59 | O15: =Fachschaften_Gesamt!O27 -> 1356.7 | P15: =Fachschaften_Gesamt!P27 -> 1491.02 | Q15: =Fachschaften_Gesamt!Q27 -> 1625.34 | R15: =Fachschaften_Gesamt!R27 -> 2165.46 | ... W15: =Fachschaften_Gesamt!W27 -> #REF!
A16: 531.41 | B16: 686.35 | C16: Bewirtung und Repräsentation intern | D16: =Haushalt!G161 -> 1000 | E16: =Fachschaften_Gesamt!E28 -> 148.96 | F16: =Haushalt!I161 -> 2000 | G16: =Haushalt!#REF! -> #REF! | H16: 4.59 | I16: 500 | J16: 1261.39 | K16: =Fachschaften_Gesamt!K28 -> 500 | L16: =Fachschaften_Gesamt!L28 -> 0 | M16: =Fachschaften_Gesamt!M28 -> 0 | N16: =Fachschaften_Gesamt!N28 -> 0 | O16: =Fachschaften_Gesamt!O28 -> 0 | P16: =Fachschaften_Gesamt!P28 -> 0 | Q16: =Fachschaften_Gesamt!Q28 -> 0 | R16: =Fachschaften_Gesamt!R28 -> 0 | ... W16: =Fachschaften_Gesamt!W28 -> #REF!
A17: 551.11 | B17: 686.33 | C17: Honorare Fachseminare | D17: =Haushalt!G185 -> 45600 | E17: =Fachschaften_Gesamt!E29 -> 32556.25 | F17: =Haushalt!I185 -> 40000 | G17: =Haushalt!#REF! -> #REF! | H17: 25505.38 | I17: 43750 | J17: 38662.5 | K17: =Fachschaften_Gesamt!K29 -> 43750 | L17: =Fachschaften_Gesamt!L29 -> 0 | M17: =Fachschaften_Gesamt!M29 -> 0 | N17: =Fachschaften_Gesamt!N29 -> 0 | O17: =Fachschaften_Gesamt!O29 -> 0 | P17: =Fachschaften_Gesamt!P29 -> 5362.5 | Q17: =Fachschaften_Gesamt!Q29 -> 12807.5 | R17: =Fachschaften_Gesamt!R29 -> 16547.5 | ... W17: =Fachschaften_Gesamt!W29 -> #REF!
A18: 551.21 | B18: 686.33 | C18: Andere Honorare | D18: =Haushalt!G191 -> 2000 | F18: =Haushalt!I191 -> 1000 | G18: =Haushalt!#REF! -> #REF! | H18: 5465.44 | I18: 1000 | J18: 0 | K18: =Fachschaften_Gesamt!K30 -> 1000 | L18: =Fachschaften_Gesamt!L30 -> 0 | M18: =Fachschaften_Gesamt!M30 -> 0 | N18: =Fachschaften_Gesamt!N30 -> 0 | O18: =Fachschaften_Gesamt!O30 -> 0 | P18: =Fachschaften_Gesamt!P30 -> 0 | Q18: =Fachschaften_Gesamt!Q30 -> 0 | R18: =Fachschaften_Gesamt!R30 -> 0 | ... W18: =Fachschaften_Gesamt!W30 -> #REF!
A19: 551.31 | B19: 686.33 | C19: Ext. Reisekosten | D19: =Haushalt!G197 -> 1100 | F19: =Haushalt!I197 -> 500 | G19: =Haushalt!#REF! -> #REF! | H19: 5465.44 | I19: 500 | J19: 0 | K19: =Fachschaften_Gesamt!K31 -> 500 | L19: =Fachschaften_Gesamt!L31 -> 0 | M19: =Fachschaften_Gesamt!M31 -> 0 | N19: =Fachschaften_Gesamt!N31 -> 0 | O19: =Fachschaften_Gesamt!O31 -> 0 | P19: =Fachschaften_Gesamt!P31 -> 0 | Q19: =Fachschaften_Gesamt!Q31 -> 0 | R19: =Fachschaften_Gesamt!R31 -> 0 | ... W19: =Fachschaften_Gesamt!W31 -> #REF!
A20: 551.41 | B20: 686.37 | C20: Bewirtung und Repräsentation extern | D20: =Haushalt!G203 -> 1500 | E20: =Fachschaften_Gesamt!E32 -> 0 | F20: =Haushalt!I203 -> 500 | G20: =Haushalt!#REF! -> #REF! | H20: 41.13 | I20: 1500 | J20: 642.6 | K20: =Fachschaften_Gesamt!K32 -> 1500 | L20: =Fachschaften_Gesamt!L32 -> 0 | M20: =Fachschaften_Gesamt!M32 -> 0 | N20: =Fachschaften_Gesamt!N32 -> 0 | O20: =Fachschaften_Gesamt!O32 -> 0 | P20: =Fachschaften_Gesamt!P32 -> 0 | Q20: =Fachschaften_Gesamt!Q32 -> 0 | R20: =Fachschaften_Gesamt!R32 -> 0 | ... W20: =Fachschaften_Gesamt!W32 -> #REF!
A21: 551.51 | B21: 686.36 | C21: Raum-u. Unterkunftskosten Sem.+Veranst. | D21: =Haushalt!G209 -> 3000 | E21: =Fachschaften_Gesamt!E33 -> 0 | F21: =Haushalt!I209 -> 500 | G21: =Haushalt!#REF! -> #REF! | H21: 0 | I21: 500 | J21: 0 | K21: =Fachschaften_Gesamt!K33 -> 500 | L21: =Fachschaften_Gesamt!L33 -> 0 | M21: =Fachschaften_Gesamt!M33 -> 0 | N21: =Fachschaften_Gesamt!N33 -> 0 | O21: =Fachschaften_Gesamt!O33 -> 0 | P21: =Fachschaften_Gesamt!P33 -> 0 | Q21: =Fachschaften_Gesamt!Q33 -> 0 | R21: =Fachschaften_Gesamt!R33 -> 0 | ... W21: =Fachschaften_Gesamt!W33 -> #REF!
A22: 551.61 | B22: 686.38 | C22: Verwaltungs- u. Druckkosten Seminare | D22: =Haushalt!G215 -> 4000 | E22: =Fachschaften_Gesamt!E34 -> 2413.98 | F22: =Haushalt!I215 -> 3500 | G22: =Haushalt!#REF! -> #REF! | H22: 240.67 | I22: 5000 | J22: 228 | K22: =Fachschaften_Gesamt!K34 -> 5000 | L22: =Fachschaften_Gesamt!L34 -> 0 | M22: =Fachschaften_Gesamt!M34 -> 0 | N22: =Fachschaften_Gesamt!N34 -> 0 | O22: =Fachschaften_Gesamt!O34 -> 0 | P22: =Fachschaften_Gesamt!P34 -> 0 | Q22: =Fachschaften_Gesamt!Q34 -> 0 | R22: =Fachschaften_Gesamt!R34 -> 0 | ... W22: =Fachschaften_Gesamt!W34 -> #REF!
